BEGIN:VCALENDAR
VERSION:2.0
PRODID:-//Mississippi Children&#039;s Museum - ECPv6.15.20//NONSGML v1.0//EN
CALSCALE:GREGORIAN
METHOD:PUBLISH
X-WR-CALNAME:Mississippi Children&#039;s Museum
X-ORIGINAL-URL:https://mschildrensmuseum.org
X-WR-CALDESC:Events for Mississippi Children&#039;s Museum
REFRESH-INTERVAL;VALUE=DURATION:PT1H
X-Robots-Tag:noindex
X-PUBLISHED-TTL:PT1H
BEGIN:VTIMEZONE
TZID:America/Chicago
BEGIN:DAYLIGHT
TZOFFSETFROM:-0600
TZOFFSETTO:-0500
TZNAME:CDT
DTSTART:20250309T080000
END:DAYLIGHT
BEGIN:STANDARD
TZOFFSETFROM:-0500
TZOFFSETTO:-0600
TZNAME:CST
DTSTART:20251102T070000
END:STANDARD
BEGIN:DAYLIGHT
TZOFFSETFROM:-0600
TZOFFSETTO:-0500
TZNAME:CDT
DTSTART:20260308T080000
END:DAYLIGHT
BEGIN:STANDARD
TZOFFSETFROM:-0500
TZOFFSETTO:-0600
TZNAME:CST
DTSTART:20261101T070000
END:STANDARD
BEGIN:DAYLIGHT
TZOFFSETFROM:-0600
TZOFFSETTO:-0500
TZNAME:CDT
DTSTART:20270314T080000
END:DAYLIGHT
BEGIN:STANDARD
TZOFFSETFROM:-0500
TZOFFSETTO:-0600
TZNAME:CST
DTSTART:20271107T070000
END:STANDARD
END:VTIMEZONE
BEGIN:VEVENT
DTSTART;VALUE=DATE:20260227
DTEND;VALUE=DATE:20260228
DTSTAMP:20260422T171102
CREATED:20251229T154213Z
LAST-MODIFIED:20251229T154355Z
UID:53174-1772150400-1772236799@mschildrensmuseum.org
SUMMARY:Field Trip Friday
DESCRIPTION:Field Trip Friday\nOn Friday\, February 27\, the museum will be transformed and ready for Saturday’s Dr. Seuss’ Silly Birthday Celebration! \nOn this special Field Trip Friday\, your students will be among a select group with the opportunity to celebrate early through story-inspired experiences that bring Dr. Seuss’ beloved books to life. Students will explore playful literacy activities focused on rhyming\, vocabulary\, storytelling\, and creative expression—all designed to reinforce the reading and language skills taught in your classroom. From silly word play to imaginative exploration\, this exclusive preview offers a joyful way to spark a love of reading ahead of Saturday’s big celebration.​ \n\nTo book a group visit for Field Trip Friday\, please email Hope Vollm at hope@mcm.ms
URL:https://mschildrensmuseum.org/event/field-trip-friday/
CATEGORIES:Meridian
ATTACH;FMTTYPE=image/jpeg:https://mschildrensmuseum.org/wp-content/uploads/2025/03/IMG_1999-scaled.jpg
END:VEVENT
BEGIN:VEVENT
DTSTART;TZID=America/Chicago:20260227T100000
DTEND;TZID=America/Chicago:20260227T100000
DTSTAMP:20260422T171102
CREATED:20220413T134837Z
LAST-MODIFIED:20260330T153718Z
UID:52476-1772186400-1772186400@mschildrensmuseum.org
SUMMARY:Rocky's Book Club
DESCRIPTION:Rocky’s Book Club\n\n\n\nHave you met the beloved Talk From the Start mascot and literacy advocate\, Rocky the Reader? He’s a jolly pup who loves to read\, play literacy games\, and travel! Join us every morning\, Wednesday – Sunday\, for Rocky’s Book Club as we read some of Rocky’s favorite books for children 0-5+ years old.
URL:https://mschildrensmuseum.org/event/storytime-2022-06-30/2026-02-27/
LOCATION:MCM-Meridian\, 403 22nd Avenue\, Meridian\, MS\, 39301\, United States
CATEGORIES:Meridian
ATTACH;FMTTYPE=image/jpeg:https://mschildrensmuseum.org/wp-content/uploads/2022/04/IMG_8993-scaled.jpg
END:VEVENT
BEGIN:VEVENT
DTSTART;TZID=America/Chicago:20260227T153000
DTEND;TZID=America/Chicago:20260227T153000
DTSTAMP:20260422T171102
CREATED:20230524T154813Z
LAST-MODIFIED:20251226T215812Z
UID:52136-1772206200-1772206200@mschildrensmuseum.org
SUMMARY:Artful Friday
DESCRIPTION:Artful Friday\nSponsored by: Sissie & Fred Wile\nExpress yourself creatively during MCM-Meridian’s Artful Friday! \nEvery Friday at 3:30pm\, join us for a guided program where we will learn and create together.
URL:https://mschildrensmuseum.org/event/artful-friday/2026-02-27/
LOCATION:MCM-Meridian\, 403 22nd Avenue\, Meridian\, MS\, 39301\, United States
CATEGORIES:Meridian
ATTACH;FMTTYPE=image/jpeg:https://mschildrensmuseum.org/wp-content/uploads/2023/05/DSC_2334-1-scaled.jpg
END:VEVENT
END:VCALENDAR