BEGIN:VCALENDAR
VERSION:2.0
PRODID:-//Mississippi Children&#039;s Museum - ECPv6.15.20//NONSGML v1.0//EN
CALSCALE:GREGORIAN
METHOD:PUBLISH
X-WR-CALNAME:Mississippi Children&#039;s Museum
X-ORIGINAL-URL:https://mschildrensmuseum.org
X-WR-CALDESC:Events for Mississippi Children&#039;s Museum
REFRESH-INTERVAL;VALUE=DURATION:PT1H
X-Robots-Tag:noindex
X-PUBLISHED-TTL:PT1H
BEGIN:VTIMEZONE
TZID:America/Chicago
BEGIN:DAYLIGHT
TZOFFSETFROM:-0600
TZOFFSETTO:-0500
TZNAME:CDT
DTSTART:20250309T080000
END:DAYLIGHT
BEGIN:STANDARD
TZOFFSETFROM:-0500
TZOFFSETTO:-0600
TZNAME:CST
DTSTART:20251102T070000
END:STANDARD
BEGIN:DAYLIGHT
TZOFFSETFROM:-0600
TZOFFSETTO:-0500
TZNAME:CDT
DTSTART:20260308T080000
END:DAYLIGHT
BEGIN:STANDARD
TZOFFSETFROM:-0500
TZOFFSETTO:-0600
TZNAME:CST
DTSTART:20261101T070000
END:STANDARD
BEGIN:DAYLIGHT
TZOFFSETFROM:-0600
TZOFFSETTO:-0500
TZNAME:CDT
DTSTART:20270314T080000
END:DAYLIGHT
BEGIN:STANDARD
TZOFFSETFROM:-0500
TZOFFSETTO:-0600
TZNAME:CST
DTSTART:20271107T070000
END:STANDARD
END:VTIMEZONE
BEGIN:VEVENT
DTSTART;TZID=America/Chicago:20261101T140000
DTEND;TZID=America/Chicago:20261101T143000
DTSTAMP:20260422T055707
CREATED:20220413T134837Z
LAST-MODIFIED:20260330T153829Z
UID:54160-1793541600-1793543400@mschildrensmuseum.org
SUMMARY:Rocky's Book Club
DESCRIPTION:Rocky’s Book Club\n\n\n\nHave you met the beloved Talk From the Start mascot and literacy advocate\, Rocky the Reader? He’s a jolly pup who loves to read\, play literacy games\, and travel! Join us every morning\, Wednesday – Sunday\, for Rocky’s Book Club as we read some of Rocky’s favorite books for children 0-5+ years old.
URL:https://mschildrensmuseum.org/event/storytime-2022-06-30/2026-11-01/
LOCATION:MCM-Meridian\, 403 22nd Avenue\, Meridian\, MS\, 39301\, United States
CATEGORIES:Meridian
ATTACH;FMTTYPE=image/jpeg:https://mschildrensmuseum.org/wp-content/uploads/2022/04/IMG_8993-scaled.jpg
END:VEVENT
BEGIN:VEVENT
DTSTART;TZID=America/Chicago:20261103T100000
DTEND;TZID=America/Chicago:20261103T100000
DTSTAMP:20260422T055707
CREATED:20220309T194013Z
LAST-MODIFIED:20251226T215229Z
UID:52886-1793700000-1793700000@mschildrensmuseum.org
SUMMARY:ABC Come Play with Me
DESCRIPTION:ABC Come Play With Me\nABC Come Play with Me is our program designed specifically for infants\, toddlers\, and their caregivers. Give your little one a jump start on the ABCs and 123s with this program. We will start the morning with the alphabet song\, a story\, and either an art project of sensory experience. \nJoin us every Tuesday at 10:00 am as we use our five senses to discover our incredible world.
URL:https://mschildrensmuseum.org/event/abc-come-play-with-me-2/2026-11-03/
LOCATION:MCM-Meridian\, 403 22nd Avenue\, Meridian\, MS\, 39301\, United States
CATEGORIES:Meridian
ATTACH;FMTTYPE=image/jpeg:https://mschildrensmuseum.org/wp-content/uploads/2021/06/IMG_6408-scaled.jpg
END:VEVENT
BEGIN:VEVENT
DTSTART;TZID=America/Chicago:20261103T153000
DTEND;TZID=America/Chicago:20261103T153000
DTSTAMP:20260422T055707
CREATED:20220429T184607Z
LAST-MODIFIED:20220429T184607Z
UID:52297-1793719800-1793719800@mschildrensmuseum.org
SUMMARY:Tech Tuesday
DESCRIPTION:Tech Tuesday\nJoin us every Tuesday at 3:30pm for our technology-based program! This facilitated program aims to foster STEAM education through inquiry-based learning\, coding\, and robotics.
URL:https://mschildrensmuseum.org/event/tech-tuesday-2/2026-11-03/
LOCATION:MCM-Meridian\, 403 22nd Avenue\, Meridian\, MS\, 39301\, United States
CATEGORIES:Meridian
ATTACH;FMTTYPE=image/jpeg:https://mschildrensmuseum.org/wp-content/uploads/2022/04/DSC_1527-1-scaled.jpg
END:VEVENT
BEGIN:VEVENT
DTSTART;TZID=America/Chicago:20261104T100000
DTEND;TZID=America/Chicago:20261104T100000
DTSTAMP:20260422T055707
CREATED:20220413T134837Z
LAST-MODIFIED:20260330T153829Z
UID:53913-1793786400-1793786400@mschildrensmuseum.org
SUMMARY:Rocky's Book Club
DESCRIPTION:Rocky’s Book Club\n\n\n\nHave you met the beloved Talk From the Start mascot and literacy advocate\, Rocky the Reader? He’s a jolly pup who loves to read\, play literacy games\, and travel! Join us every morning\, Wednesday – Sunday\, for Rocky’s Book Club as we read some of Rocky’s favorite books for children 0-5+ years old.
URL:https://mschildrensmuseum.org/event/storytime-2022-06-30/2026-11-04/
LOCATION:MCM-Meridian\, 403 22nd Avenue\, Meridian\, MS\, 39301\, United States
CATEGORIES:Meridian
ATTACH;FMTTYPE=image/jpeg:https://mschildrensmuseum.org/wp-content/uploads/2022/04/IMG_8993-scaled.jpg
END:VEVENT
BEGIN:VEVENT
DTSTART;TZID=America/Chicago:20261104T153000
DTEND;TZID=America/Chicago:20261104T153000
DTSTAMP:20260422T055707
CREATED:20210826T150632Z
LAST-MODIFIED:20251226T214818Z
UID:52645-1793806200-1793806200@mschildrensmuseum.org
SUMMARY:Wonder Wednesday
DESCRIPTION:Wonder Wednesday\nWhat do you wonder about? \nJoin us every Wednesday at 3:30 pm for a hands-on experiment that will cultivate curiosity in guests of all ages! Wonder Wednesday is MCM-Meridian’s latest program that focuses on Science\, Technology\, Engineering\, Art\, and Mathematics with a fun and educational twist. \nPresented by
URL:https://mschildrensmuseum.org/event/wonder-wednesday-2/2026-11-04/
LOCATION:MCM-Meridian\, 403 22nd Avenue\, Meridian\, MS\, 39301\, United States
CATEGORIES:Meridian
ATTACH;FMTTYPE=image/jpeg:https://mschildrensmuseum.org/wp-content/uploads/2021/08/DSC_1567-scaled.jpg
END:VEVENT
BEGIN:VEVENT
DTSTART;TZID=America/Chicago:20261105T100000
DTEND;TZID=America/Chicago:20261105T100000
DTSTAMP:20260422T055707
CREATED:20220413T134837Z
LAST-MODIFIED:20260330T153830Z
UID:53914-1793872800-1793872800@mschildrensmuseum.org
SUMMARY:Rocky's Book Club
DESCRIPTION:Rocky’s Book Club\n\n\n\nHave you met the beloved Talk From the Start mascot and literacy advocate\, Rocky the Reader? He’s a jolly pup who loves to read\, play literacy games\, and travel! Join us every morning\, Wednesday – Sunday\, for Rocky’s Book Club as we read some of Rocky’s favorite books for children 0-5+ years old.
URL:https://mschildrensmuseum.org/event/storytime-2022-06-30/2026-11-05/
LOCATION:MCM-Meridian\, 403 22nd Avenue\, Meridian\, MS\, 39301\, United States
CATEGORIES:Meridian
ATTACH;FMTTYPE=image/jpeg:https://mschildrensmuseum.org/wp-content/uploads/2022/04/IMG_8993-scaled.jpg
END:VEVENT
BEGIN:VEVENT
DTSTART;TZID=America/Chicago:20261105T153000
DTEND;TZID=America/Chicago:20261105T153000
DTSTAMP:20260422T055707
CREATED:20220505T143345Z
LAST-MODIFIED:20260108T204831Z
UID:52699-1793892600-1793892600@mschildrensmuseum.org
SUMMARY:Know to Grow
DESCRIPTION:Know to Grow\nJoin us every Thursday at 3:30pm for Know to Grow! This program incorporates our STEAM\, literacy\, and health initiatives to create a multi-disciplinary program where children will make connections between reading\, science\, and the aspects of the natural world. Each week we will read a garden-related story and work together to complete a hands-on gardening activity! \n 
URL:https://mschildrensmuseum.org/event/know-to-grow-2/2026-11-05/
LOCATION:MCM-Meridian\, 403 22nd Avenue\, Meridian\, MS\, 39301\, United States
CATEGORIES:Meridian
ATTACH;FMTTYPE=image/jpeg:https://mschildrensmuseum.org/wp-content/uploads/2022/05/IMG_7078-scaled.jpg
END:VEVENT
BEGIN:VEVENT
DTSTART;TZID=America/Chicago:20261106T100000
DTEND;TZID=America/Chicago:20261106T100000
DTSTAMP:20260422T055707
CREATED:20220413T134837Z
LAST-MODIFIED:20260330T153830Z
UID:53915-1793959200-1793959200@mschildrensmuseum.org
SUMMARY:Rocky's Book Club
DESCRIPTION:Rocky’s Book Club\n\n\n\nHave you met the beloved Talk From the Start mascot and literacy advocate\, Rocky the Reader? He’s a jolly pup who loves to read\, play literacy games\, and travel! Join us every morning\, Wednesday – Sunday\, for Rocky’s Book Club as we read some of Rocky’s favorite books for children 0-5+ years old.
URL:https://mschildrensmuseum.org/event/storytime-2022-06-30/2026-11-06/
LOCATION:MCM-Meridian\, 403 22nd Avenue\, Meridian\, MS\, 39301\, United States
CATEGORIES:Meridian
ATTACH;FMTTYPE=image/jpeg:https://mschildrensmuseum.org/wp-content/uploads/2022/04/IMG_8993-scaled.jpg
END:VEVENT
BEGIN:VEVENT
DTSTART;TZID=America/Chicago:20261106T153000
DTEND;TZID=America/Chicago:20261106T153000
DTSTAMP:20260422T055707
CREATED:20230524T154813Z
LAST-MODIFIED:20251226T215826Z
UID:52915-1793979000-1793979000@mschildrensmuseum.org
SUMMARY:Artful Friday
DESCRIPTION:Artful Friday\nSponsored by: Sissie & Fred Wile\nExpress yourself creatively during MCM-Meridian’s Artful Friday! \nEvery Friday at 3:30pm\, join us for a guided program where we will learn and create together.
URL:https://mschildrensmuseum.org/event/artful-friday/2026-11-06/
LOCATION:MCM-Meridian\, 403 22nd Avenue\, Meridian\, MS\, 39301\, United States
CATEGORIES:Meridian
ATTACH;FMTTYPE=image/jpeg:https://mschildrensmuseum.org/wp-content/uploads/2023/05/DSC_2334-1-scaled.jpg
END:VEVENT
BEGIN:VEVENT
DTSTART;TZID=America/Chicago:20261107T110000
DTEND;TZID=America/Chicago:20261107T113000
DTSTAMP:20260422T055707
CREATED:20220413T134837Z
LAST-MODIFIED:20260330T153830Z
UID:54161-1794049200-1794051000@mschildrensmuseum.org
SUMMARY:Rocky's Book Club
DESCRIPTION:Rocky’s Book Club\n\n\n\nHave you met the beloved Talk From the Start mascot and literacy advocate\, Rocky the Reader? He’s a jolly pup who loves to read\, play literacy games\, and travel! Join us every morning\, Wednesday – Sunday\, for Rocky’s Book Club as we read some of Rocky’s favorite books for children 0-5+ years old.
URL:https://mschildrensmuseum.org/event/storytime-2022-06-30/2026-11-07/
LOCATION:MCM-Meridian\, 403 22nd Avenue\, Meridian\, MS\, 39301\, United States
CATEGORIES:Meridian
ATTACH;FMTTYPE=image/jpeg:https://mschildrensmuseum.org/wp-content/uploads/2022/04/IMG_8993-scaled.jpg
END:VEVENT
BEGIN:VEVENT
DTSTART;TZID=America/Chicago:20261108T140000
DTEND;TZID=America/Chicago:20261108T143000
DTSTAMP:20260422T055707
CREATED:20220413T134837Z
LAST-MODIFIED:20260330T153832Z
UID:54162-1794146400-1794148200@mschildrensmuseum.org
SUMMARY:Rocky's Book Club
DESCRIPTION:Rocky’s Book Club\n\n\n\nHave you met the beloved Talk From the Start mascot and literacy advocate\, Rocky the Reader? He’s a jolly pup who loves to read\, play literacy games\, and travel! Join us every morning\, Wednesday – Sunday\, for Rocky’s Book Club as we read some of Rocky’s favorite books for children 0-5+ years old.
URL:https://mschildrensmuseum.org/event/storytime-2022-06-30/2026-11-08/
LOCATION:MCM-Meridian\, 403 22nd Avenue\, Meridian\, MS\, 39301\, United States
CATEGORIES:Meridian
ATTACH;FMTTYPE=image/jpeg:https://mschildrensmuseum.org/wp-content/uploads/2022/04/IMG_8993-scaled.jpg
END:VEVENT
BEGIN:VEVENT
DTSTART;TZID=America/Chicago:20261110T100000
DTEND;TZID=America/Chicago:20261110T100000
DTSTAMP:20260422T055707
CREATED:20220309T194013Z
LAST-MODIFIED:20251226T215229Z
UID:52887-1794304800-1794304800@mschildrensmuseum.org
SUMMARY:ABC Come Play with Me
DESCRIPTION:ABC Come Play With Me\nABC Come Play with Me is our program designed specifically for infants\, toddlers\, and their caregivers. Give your little one a jump start on the ABCs and 123s with this program. We will start the morning with the alphabet song\, a story\, and either an art project of sensory experience. \nJoin us every Tuesday at 10:00 am as we use our five senses to discover our incredible world.
URL:https://mschildrensmuseum.org/event/abc-come-play-with-me-2/2026-11-10/
LOCATION:MCM-Meridian\, 403 22nd Avenue\, Meridian\, MS\, 39301\, United States
CATEGORIES:Meridian
ATTACH;FMTTYPE=image/jpeg:https://mschildrensmuseum.org/wp-content/uploads/2021/06/IMG_6408-scaled.jpg
END:VEVENT
BEGIN:VEVENT
DTSTART;TZID=America/Chicago:20261110T153000
DTEND;TZID=America/Chicago:20261110T153000
DTSTAMP:20260422T055707
CREATED:20220429T184607Z
LAST-MODIFIED:20220429T184607Z
UID:52298-1794324600-1794324600@mschildrensmuseum.org
SUMMARY:Tech Tuesday
DESCRIPTION:Tech Tuesday\nJoin us every Tuesday at 3:30pm for our technology-based program! This facilitated program aims to foster STEAM education through inquiry-based learning\, coding\, and robotics.
URL:https://mschildrensmuseum.org/event/tech-tuesday-2/2026-11-10/
LOCATION:MCM-Meridian\, 403 22nd Avenue\, Meridian\, MS\, 39301\, United States
CATEGORIES:Meridian
ATTACH;FMTTYPE=image/jpeg:https://mschildrensmuseum.org/wp-content/uploads/2022/04/DSC_1527-1-scaled.jpg
END:VEVENT
BEGIN:VEVENT
DTSTART;TZID=America/Chicago:20261111T100000
DTEND;TZID=America/Chicago:20261111T100000
DTSTAMP:20260422T055707
CREATED:20220413T134837Z
LAST-MODIFIED:20260330T153832Z
UID:53916-1794391200-1794391200@mschildrensmuseum.org
SUMMARY:Rocky's Book Club
DESCRIPTION:Rocky’s Book Club\n\n\n\nHave you met the beloved Talk From the Start mascot and literacy advocate\, Rocky the Reader? He’s a jolly pup who loves to read\, play literacy games\, and travel! Join us every morning\, Wednesday – Sunday\, for Rocky’s Book Club as we read some of Rocky’s favorite books for children 0-5+ years old.
URL:https://mschildrensmuseum.org/event/storytime-2022-06-30/2026-11-11/
LOCATION:MCM-Meridian\, 403 22nd Avenue\, Meridian\, MS\, 39301\, United States
CATEGORIES:Meridian
ATTACH;FMTTYPE=image/jpeg:https://mschildrensmuseum.org/wp-content/uploads/2022/04/IMG_8993-scaled.jpg
END:VEVENT
BEGIN:VEVENT
DTSTART;TZID=America/Chicago:20261111T153000
DTEND;TZID=America/Chicago:20261111T153000
DTSTAMP:20260422T055707
CREATED:20210826T150632Z
LAST-MODIFIED:20251226T214818Z
UID:52646-1794411000-1794411000@mschildrensmuseum.org
SUMMARY:Wonder Wednesday
DESCRIPTION:Wonder Wednesday\nWhat do you wonder about? \nJoin us every Wednesday at 3:30 pm for a hands-on experiment that will cultivate curiosity in guests of all ages! Wonder Wednesday is MCM-Meridian’s latest program that focuses on Science\, Technology\, Engineering\, Art\, and Mathematics with a fun and educational twist. \nPresented by
URL:https://mschildrensmuseum.org/event/wonder-wednesday-2/2026-11-11/
LOCATION:MCM-Meridian\, 403 22nd Avenue\, Meridian\, MS\, 39301\, United States
CATEGORIES:Meridian
ATTACH;FMTTYPE=image/jpeg:https://mschildrensmuseum.org/wp-content/uploads/2021/08/DSC_1567-scaled.jpg
END:VEVENT
BEGIN:VEVENT
DTSTART;TZID=America/Chicago:20261112T100000
DTEND;TZID=America/Chicago:20261112T100000
DTSTAMP:20260422T055707
CREATED:20220413T134837Z
LAST-MODIFIED:20260330T153832Z
UID:53917-1794477600-1794477600@mschildrensmuseum.org
SUMMARY:Rocky's Book Club
DESCRIPTION:Rocky’s Book Club\n\n\n\nHave you met the beloved Talk From the Start mascot and literacy advocate\, Rocky the Reader? He’s a jolly pup who loves to read\, play literacy games\, and travel! Join us every morning\, Wednesday – Sunday\, for Rocky’s Book Club as we read some of Rocky’s favorite books for children 0-5+ years old.
URL:https://mschildrensmuseum.org/event/storytime-2022-06-30/2026-11-12/
LOCATION:MCM-Meridian\, 403 22nd Avenue\, Meridian\, MS\, 39301\, United States
CATEGORIES:Meridian
ATTACH;FMTTYPE=image/jpeg:https://mschildrensmuseum.org/wp-content/uploads/2022/04/IMG_8993-scaled.jpg
END:VEVENT
BEGIN:VEVENT
DTSTART;TZID=America/Chicago:20261112T153000
DTEND;TZID=America/Chicago:20261112T153000
DTSTAMP:20260422T055707
CREATED:20220505T143345Z
LAST-MODIFIED:20260108T204831Z
UID:52700-1794497400-1794497400@mschildrensmuseum.org
SUMMARY:Know to Grow
DESCRIPTION:Know to Grow\nJoin us every Thursday at 3:30pm for Know to Grow! This program incorporates our STEAM\, literacy\, and health initiatives to create a multi-disciplinary program where children will make connections between reading\, science\, and the aspects of the natural world. Each week we will read a garden-related story and work together to complete a hands-on gardening activity! \n 
URL:https://mschildrensmuseum.org/event/know-to-grow-2/2026-11-12/
LOCATION:MCM-Meridian\, 403 22nd Avenue\, Meridian\, MS\, 39301\, United States
CATEGORIES:Meridian
ATTACH;FMTTYPE=image/jpeg:https://mschildrensmuseum.org/wp-content/uploads/2022/05/IMG_7078-scaled.jpg
END:VEVENT
BEGIN:VEVENT
DTSTART;TZID=America/Chicago:20261113T100000
DTEND;TZID=America/Chicago:20261113T100000
DTSTAMP:20260422T055707
CREATED:20220413T134837Z
LAST-MODIFIED:20260330T153833Z
UID:53918-1794564000-1794564000@mschildrensmuseum.org
SUMMARY:Rocky's Book Club
DESCRIPTION:Rocky’s Book Club\n\n\n\nHave you met the beloved Talk From the Start mascot and literacy advocate\, Rocky the Reader? He’s a jolly pup who loves to read\, play literacy games\, and travel! Join us every morning\, Wednesday – Sunday\, for Rocky’s Book Club as we read some of Rocky’s favorite books for children 0-5+ years old.
URL:https://mschildrensmuseum.org/event/storytime-2022-06-30/2026-11-13/
LOCATION:MCM-Meridian\, 403 22nd Avenue\, Meridian\, MS\, 39301\, United States
CATEGORIES:Meridian
ATTACH;FMTTYPE=image/jpeg:https://mschildrensmuseum.org/wp-content/uploads/2022/04/IMG_8993-scaled.jpg
END:VEVENT
BEGIN:VEVENT
DTSTART;TZID=America/Chicago:20261113T153000
DTEND;TZID=America/Chicago:20261113T153000
DTSTAMP:20260422T055707
CREATED:20230524T154813Z
LAST-MODIFIED:20251226T215826Z
UID:52916-1794583800-1794583800@mschildrensmuseum.org
SUMMARY:Artful Friday
DESCRIPTION:Artful Friday\nSponsored by: Sissie & Fred Wile\nExpress yourself creatively during MCM-Meridian’s Artful Friday! \nEvery Friday at 3:30pm\, join us for a guided program where we will learn and create together.
URL:https://mschildrensmuseum.org/event/artful-friday/2026-11-13/
LOCATION:MCM-Meridian\, 403 22nd Avenue\, Meridian\, MS\, 39301\, United States
CATEGORIES:Meridian
ATTACH;FMTTYPE=image/jpeg:https://mschildrensmuseum.org/wp-content/uploads/2023/05/DSC_2334-1-scaled.jpg
END:VEVENT
BEGIN:VEVENT
DTSTART;TZID=America/Chicago:20261114T110000
DTEND;TZID=America/Chicago:20261114T113000
DTSTAMP:20260422T055707
CREATED:20220413T134837Z
LAST-MODIFIED:20260330T153833Z
UID:54163-1794654000-1794655800@mschildrensmuseum.org
SUMMARY:Rocky's Book Club
DESCRIPTION:Rocky’s Book Club\n\n\n\nHave you met the beloved Talk From the Start mascot and literacy advocate\, Rocky the Reader? He’s a jolly pup who loves to read\, play literacy games\, and travel! Join us every morning\, Wednesday – Sunday\, for Rocky’s Book Club as we read some of Rocky’s favorite books for children 0-5+ years old.
URL:https://mschildrensmuseum.org/event/storytime-2022-06-30/2026-11-14/
LOCATION:MCM-Meridian\, 403 22nd Avenue\, Meridian\, MS\, 39301\, United States
CATEGORIES:Meridian
ATTACH;FMTTYPE=image/jpeg:https://mschildrensmuseum.org/wp-content/uploads/2022/04/IMG_8993-scaled.jpg
END:VEVENT
BEGIN:VEVENT
DTSTART;TZID=America/Chicago:20261115T140000
DTEND;TZID=America/Chicago:20261115T143000
DTSTAMP:20260422T055707
CREATED:20220413T134837Z
LAST-MODIFIED:20260330T153833Z
UID:54164-1794751200-1794753000@mschildrensmuseum.org
SUMMARY:Rocky's Book Club
DESCRIPTION:Rocky’s Book Club\n\n\n\nHave you met the beloved Talk From the Start mascot and literacy advocate\, Rocky the Reader? He’s a jolly pup who loves to read\, play literacy games\, and travel! Join us every morning\, Wednesday – Sunday\, for Rocky’s Book Club as we read some of Rocky’s favorite books for children 0-5+ years old.
URL:https://mschildrensmuseum.org/event/storytime-2022-06-30/2026-11-15/
LOCATION:MCM-Meridian\, 403 22nd Avenue\, Meridian\, MS\, 39301\, United States
CATEGORIES:Meridian
ATTACH;FMTTYPE=image/jpeg:https://mschildrensmuseum.org/wp-content/uploads/2022/04/IMG_8993-scaled.jpg
END:VEVENT
BEGIN:VEVENT
DTSTART;TZID=America/Chicago:20261117T100000
DTEND;TZID=America/Chicago:20261117T100000
DTSTAMP:20260422T055707
CREATED:20220309T194013Z
LAST-MODIFIED:20251226T215229Z
UID:52888-1794909600-1794909600@mschildrensmuseum.org
SUMMARY:ABC Come Play with Me
DESCRIPTION:ABC Come Play With Me\nABC Come Play with Me is our program designed specifically for infants\, toddlers\, and their caregivers. Give your little one a jump start on the ABCs and 123s with this program. We will start the morning with the alphabet song\, a story\, and either an art project of sensory experience. \nJoin us every Tuesday at 10:00 am as we use our five senses to discover our incredible world.
URL:https://mschildrensmuseum.org/event/abc-come-play-with-me-2/2026-11-17/
LOCATION:MCM-Meridian\, 403 22nd Avenue\, Meridian\, MS\, 39301\, United States
CATEGORIES:Meridian
ATTACH;FMTTYPE=image/jpeg:https://mschildrensmuseum.org/wp-content/uploads/2021/06/IMG_6408-scaled.jpg
END:VEVENT
BEGIN:VEVENT
DTSTART;TZID=America/Chicago:20261117T153000
DTEND;TZID=America/Chicago:20261117T153000
DTSTAMP:20260422T055707
CREATED:20220429T184607Z
LAST-MODIFIED:20220429T184607Z
UID:52299-1794929400-1794929400@mschildrensmuseum.org
SUMMARY:Tech Tuesday
DESCRIPTION:Tech Tuesday\nJoin us every Tuesday at 3:30pm for our technology-based program! This facilitated program aims to foster STEAM education through inquiry-based learning\, coding\, and robotics.
URL:https://mschildrensmuseum.org/event/tech-tuesday-2/2026-11-17/
LOCATION:MCM-Meridian\, 403 22nd Avenue\, Meridian\, MS\, 39301\, United States
CATEGORIES:Meridian
ATTACH;FMTTYPE=image/jpeg:https://mschildrensmuseum.org/wp-content/uploads/2022/04/DSC_1527-1-scaled.jpg
END:VEVENT
BEGIN:VEVENT
DTSTART;TZID=America/Chicago:20261118T100000
DTEND;TZID=America/Chicago:20261118T100000
DTSTAMP:20260422T055707
CREATED:20220413T134837Z
LAST-MODIFIED:20260330T153833Z
UID:53919-1794996000-1794996000@mschildrensmuseum.org
SUMMARY:Rocky's Book Club
DESCRIPTION:Rocky’s Book Club\n\n\n\nHave you met the beloved Talk From the Start mascot and literacy advocate\, Rocky the Reader? He’s a jolly pup who loves to read\, play literacy games\, and travel! Join us every morning\, Wednesday – Sunday\, for Rocky’s Book Club as we read some of Rocky’s favorite books for children 0-5+ years old.
URL:https://mschildrensmuseum.org/event/storytime-2022-06-30/2026-11-18/
LOCATION:MCM-Meridian\, 403 22nd Avenue\, Meridian\, MS\, 39301\, United States
CATEGORIES:Meridian
ATTACH;FMTTYPE=image/jpeg:https://mschildrensmuseum.org/wp-content/uploads/2022/04/IMG_8993-scaled.jpg
END:VEVENT
BEGIN:VEVENT
DTSTART;TZID=America/Chicago:20261118T153000
DTEND;TZID=America/Chicago:20261118T153000
DTSTAMP:20260422T055707
CREATED:20210826T150632Z
LAST-MODIFIED:20251226T214818Z
UID:52647-1795015800-1795015800@mschildrensmuseum.org
SUMMARY:Wonder Wednesday
DESCRIPTION:Wonder Wednesday\nWhat do you wonder about? \nJoin us every Wednesday at 3:30 pm for a hands-on experiment that will cultivate curiosity in guests of all ages! Wonder Wednesday is MCM-Meridian’s latest program that focuses on Science\, Technology\, Engineering\, Art\, and Mathematics with a fun and educational twist. \nPresented by
URL:https://mschildrensmuseum.org/event/wonder-wednesday-2/2026-11-18/
LOCATION:MCM-Meridian\, 403 22nd Avenue\, Meridian\, MS\, 39301\, United States
CATEGORIES:Meridian
ATTACH;FMTTYPE=image/jpeg:https://mschildrensmuseum.org/wp-content/uploads/2021/08/DSC_1567-scaled.jpg
END:VEVENT
BEGIN:VEVENT
DTSTART;TZID=America/Chicago:20261119T100000
DTEND;TZID=America/Chicago:20261119T100000
DTSTAMP:20260422T055707
CREATED:20220413T134837Z
LAST-MODIFIED:20260330T153834Z
UID:53920-1795082400-1795082400@mschildrensmuseum.org
SUMMARY:Rocky's Book Club
DESCRIPTION:Rocky’s Book Club\n\n\n\nHave you met the beloved Talk From the Start mascot and literacy advocate\, Rocky the Reader? He’s a jolly pup who loves to read\, play literacy games\, and travel! Join us every morning\, Wednesday – Sunday\, for Rocky’s Book Club as we read some of Rocky’s favorite books for children 0-5+ years old.
URL:https://mschildrensmuseum.org/event/storytime-2022-06-30/2026-11-19/
LOCATION:MCM-Meridian\, 403 22nd Avenue\, Meridian\, MS\, 39301\, United States
CATEGORIES:Meridian
ATTACH;FMTTYPE=image/jpeg:https://mschildrensmuseum.org/wp-content/uploads/2022/04/IMG_8993-scaled.jpg
END:VEVENT
BEGIN:VEVENT
DTSTART;TZID=America/Chicago:20261119T153000
DTEND;TZID=America/Chicago:20261119T153000
DTSTAMP:20260422T055707
CREATED:20220505T143345Z
LAST-MODIFIED:20260108T204832Z
UID:52701-1795102200-1795102200@mschildrensmuseum.org
SUMMARY:Know to Grow
DESCRIPTION:Know to Grow\nJoin us every Thursday at 3:30pm for Know to Grow! This program incorporates our STEAM\, literacy\, and health initiatives to create a multi-disciplinary program where children will make connections between reading\, science\, and the aspects of the natural world. Each week we will read a garden-related story and work together to complete a hands-on gardening activity! \n 
URL:https://mschildrensmuseum.org/event/know-to-grow-2/2026-11-19/
LOCATION:MCM-Meridian\, 403 22nd Avenue\, Meridian\, MS\, 39301\, United States
CATEGORIES:Meridian
ATTACH;FMTTYPE=image/jpeg:https://mschildrensmuseum.org/wp-content/uploads/2022/05/IMG_7078-scaled.jpg
END:VEVENT
BEGIN:VEVENT
DTSTART;TZID=America/Chicago:20261120T100000
DTEND;TZID=America/Chicago:20261120T100000
DTSTAMP:20260422T055707
CREATED:20220413T134837Z
LAST-MODIFIED:20260330T153834Z
UID:53921-1795168800-1795168800@mschildrensmuseum.org
SUMMARY:Rocky's Book Club
DESCRIPTION:Rocky’s Book Club\n\n\n\nHave you met the beloved Talk From the Start mascot and literacy advocate\, Rocky the Reader? He’s a jolly pup who loves to read\, play literacy games\, and travel! Join us every morning\, Wednesday – Sunday\, for Rocky’s Book Club as we read some of Rocky’s favorite books for children 0-5+ years old.
URL:https://mschildrensmuseum.org/event/storytime-2022-06-30/2026-11-20/
LOCATION:MCM-Meridian\, 403 22nd Avenue\, Meridian\, MS\, 39301\, United States
CATEGORIES:Meridian
ATTACH;FMTTYPE=image/jpeg:https://mschildrensmuseum.org/wp-content/uploads/2022/04/IMG_8993-scaled.jpg
END:VEVENT
BEGIN:VEVENT
DTSTART;TZID=America/Chicago:20261120T153000
DTEND;TZID=America/Chicago:20261120T153000
DTSTAMP:20260422T055707
CREATED:20230524T154813Z
LAST-MODIFIED:20251226T215826Z
UID:52917-1795188600-1795188600@mschildrensmuseum.org
SUMMARY:Artful Friday
DESCRIPTION:Artful Friday\nSponsored by: Sissie & Fred Wile\nExpress yourself creatively during MCM-Meridian’s Artful Friday! \nEvery Friday at 3:30pm\, join us for a guided program where we will learn and create together.
URL:https://mschildrensmuseum.org/event/artful-friday/2026-11-20/
LOCATION:MCM-Meridian\, 403 22nd Avenue\, Meridian\, MS\, 39301\, United States
CATEGORIES:Meridian
ATTACH;FMTTYPE=image/jpeg:https://mschildrensmuseum.org/wp-content/uploads/2023/05/DSC_2334-1-scaled.jpg
END:VEVENT
BEGIN:VEVENT
DTSTART;TZID=America/Chicago:20261121T110000
DTEND;TZID=America/Chicago:20261121T113000
DTSTAMP:20260422T055707
CREATED:20220413T134837Z
LAST-MODIFIED:20260330T153834Z
UID:54165-1795258800-1795260600@mschildrensmuseum.org
SUMMARY:Rocky's Book Club
DESCRIPTION:Rocky’s Book Club\n\n\n\nHave you met the beloved Talk From the Start mascot and literacy advocate\, Rocky the Reader? He’s a jolly pup who loves to read\, play literacy games\, and travel! Join us every morning\, Wednesday – Sunday\, for Rocky’s Book Club as we read some of Rocky’s favorite books for children 0-5+ years old.
URL:https://mschildrensmuseum.org/event/storytime-2022-06-30/2026-11-21/
LOCATION:MCM-Meridian\, 403 22nd Avenue\, Meridian\, MS\, 39301\, United States
CATEGORIES:Meridian
ATTACH;FMTTYPE=image/jpeg:https://mschildrensmuseum.org/wp-content/uploads/2022/04/IMG_8993-scaled.jpg
END:VEVENT
END:VCALENDAR