BEGIN:VCALENDAR
VERSION:2.0
PRODID:-//Mississippi Children&#039;s Museum - ECPv6.15.20//NONSGML v1.0//EN
CALSCALE:GREGORIAN
METHOD:PUBLISH
X-WR-CALNAME:Mississippi Children&#039;s Museum
X-ORIGINAL-URL:https://mschildrensmuseum.org
X-WR-CALDESC:Events for Mississippi Children&#039;s Museum
REFRESH-INTERVAL;VALUE=DURATION:PT1H
X-Robots-Tag:noindex
X-PUBLISHED-TTL:PT1H
BEGIN:VTIMEZONE
TZID:America/Chicago
BEGIN:DAYLIGHT
TZOFFSETFROM:-0600
TZOFFSETTO:-0500
TZNAME:CDT
DTSTART:20250309T080000
END:DAYLIGHT
BEGIN:STANDARD
TZOFFSETFROM:-0500
TZOFFSETTO:-0600
TZNAME:CST
DTSTART:20251102T070000
END:STANDARD
BEGIN:DAYLIGHT
TZOFFSETFROM:-0600
TZOFFSETTO:-0500
TZNAME:CDT
DTSTART:20260308T080000
END:DAYLIGHT
BEGIN:STANDARD
TZOFFSETFROM:-0500
TZOFFSETTO:-0600
TZNAME:CST
DTSTART:20261101T070000
END:STANDARD
BEGIN:DAYLIGHT
TZOFFSETFROM:-0600
TZOFFSETTO:-0500
TZNAME:CDT
DTSTART:20270314T080000
END:DAYLIGHT
BEGIN:STANDARD
TZOFFSETFROM:-0500
TZOFFSETTO:-0600
TZNAME:CST
DTSTART:20271107T070000
END:STANDARD
END:VTIMEZONE
BEGIN:VEVENT
DTSTART;TZID=America/Chicago:20260801T110000
DTEND;TZID=America/Chicago:20260801T113000
DTSTAMP:20260422T003944
CREATED:20220413T134837Z
LAST-MODIFIED:20260330T153803Z
UID:54133-1785582000-1785583800@mschildrensmuseum.org
SUMMARY:Rocky's Book Club
DESCRIPTION:Rocky’s Book Club\n\n\n\nHave you met the beloved Talk From the Start mascot and literacy advocate\, Rocky the Reader? He’s a jolly pup who loves to read\, play literacy games\, and travel! Join us every morning\, Wednesday – Sunday\, for Rocky’s Book Club as we read some of Rocky’s favorite books for children 0-5+ years old.
URL:https://mschildrensmuseum.org/event/storytime-2022-06-30/2026-08-01/
LOCATION:MCM-Meridian\, 403 22nd Avenue\, Meridian\, MS\, 39301\, United States
CATEGORIES:Meridian
ATTACH;FMTTYPE=image/jpeg:https://mschildrensmuseum.org/wp-content/uploads/2022/04/IMG_8993-scaled.jpg
END:VEVENT
BEGIN:VEVENT
DTSTART;TZID=America/Chicago:20260802T140000
DTEND;TZID=America/Chicago:20260802T143000
DTSTAMP:20260422T003944
CREATED:20220413T134837Z
LAST-MODIFIED:20260330T153803Z
UID:54134-1785679200-1785681000@mschildrensmuseum.org
SUMMARY:Rocky's Book Club
DESCRIPTION:Rocky’s Book Club\n\n\n\nHave you met the beloved Talk From the Start mascot and literacy advocate\, Rocky the Reader? He’s a jolly pup who loves to read\, play literacy games\, and travel! Join us every morning\, Wednesday – Sunday\, for Rocky’s Book Club as we read some of Rocky’s favorite books for children 0-5+ years old.
URL:https://mschildrensmuseum.org/event/storytime-2022-06-30/2026-08-02/
LOCATION:MCM-Meridian\, 403 22nd Avenue\, Meridian\, MS\, 39301\, United States
CATEGORIES:Meridian
ATTACH;FMTTYPE=image/jpeg:https://mschildrensmuseum.org/wp-content/uploads/2022/04/IMG_8993-scaled.jpg
END:VEVENT
BEGIN:VEVENT
DTSTART;TZID=America/Chicago:20260803T090000
DTEND;TZID=America/Chicago:20260803T170000
DTSTAMP:20260422T003944
CREATED:20251226T173102Z
LAST-MODIFIED:20260316T160031Z
UID:54660-1785747600-1785776400@mschildrensmuseum.org
SUMMARY:Magic Monday: Monday Fun Day
DESCRIPTION:Magic Monday\nDid you know MCM-Meridian is open for special\, holiday Mondays from 9am – 5pm for extra hours of inspiration and fun? Magic Monday is the perfect solution to a Monday off from school.  \nEach of these special days includes special museum programing.\n \nPurchase Tickets to the Museum
URL:https://mschildrensmuseum.org/event/magic-monday-meridian-2-2026-02-16-2026-08-03/
LOCATION:MCM-Meridian\, 403 22nd Avenue\, Meridian\, MS\, 39301\, United States
CATEGORIES:Meridian
ATTACH;FMTTYPE=image/jpeg:https://mschildrensmuseum.org/wp-content/uploads/2025/12/Meridian-4-scaled.jpeg
END:VEVENT
BEGIN:VEVENT
DTSTART;TZID=America/Chicago:20260804T100000
DTEND;TZID=America/Chicago:20260804T100000
DTSTAMP:20260422T003944
CREATED:20220309T194013Z
LAST-MODIFIED:20251226T215225Z
UID:52873-1785837600-1785837600@mschildrensmuseum.org
SUMMARY:ABC Come Play with Me
DESCRIPTION:ABC Come Play With Me\nABC Come Play with Me is our program designed specifically for infants\, toddlers\, and their caregivers. Give your little one a jump start on the ABCs and 123s with this program. We will start the morning with the alphabet song\, a story\, and either an art project of sensory experience. \nJoin us every Tuesday at 10:00 am as we use our five senses to discover our incredible world.
URL:https://mschildrensmuseum.org/event/abc-come-play-with-me-2/2026-08-04/
LOCATION:MCM-Meridian\, 403 22nd Avenue\, Meridian\, MS\, 39301\, United States
CATEGORIES:Meridian
ATTACH;FMTTYPE=image/jpeg:https://mschildrensmuseum.org/wp-content/uploads/2021/06/IMG_6408-scaled.jpg
END:VEVENT
BEGIN:VEVENT
DTSTART;TZID=America/Chicago:20260804T153000
DTEND;TZID=America/Chicago:20260804T153000
DTSTAMP:20260422T003944
CREATED:20220429T184607Z
LAST-MODIFIED:20220429T184607Z
UID:52285-1785857400-1785857400@mschildrensmuseum.org
SUMMARY:Tech Tuesday
DESCRIPTION:Tech Tuesday\nJoin us every Tuesday at 3:30pm for our technology-based program! This facilitated program aims to foster STEAM education through inquiry-based learning\, coding\, and robotics.
URL:https://mschildrensmuseum.org/event/tech-tuesday-2/2026-08-04/
LOCATION:MCM-Meridian\, 403 22nd Avenue\, Meridian\, MS\, 39301\, United States
CATEGORIES:Meridian
ATTACH;FMTTYPE=image/jpeg:https://mschildrensmuseum.org/wp-content/uploads/2022/04/DSC_1527-1-scaled.jpg
END:VEVENT
BEGIN:VEVENT
DTSTART;TZID=America/Chicago:20260805T100000
DTEND;TZID=America/Chicago:20260805T100000
DTSTAMP:20260422T003944
CREATED:20220413T134837Z
LAST-MODIFIED:20260330T153803Z
UID:52543-1785924000-1785924000@mschildrensmuseum.org
SUMMARY:Rocky's Book Club
DESCRIPTION:Rocky’s Book Club\n\n\n\nHave you met the beloved Talk From the Start mascot and literacy advocate\, Rocky the Reader? He’s a jolly pup who loves to read\, play literacy games\, and travel! Join us every morning\, Wednesday – Sunday\, for Rocky’s Book Club as we read some of Rocky’s favorite books for children 0-5+ years old.
URL:https://mschildrensmuseum.org/event/storytime-2022-06-30/2026-08-05/
LOCATION:MCM-Meridian\, 403 22nd Avenue\, Meridian\, MS\, 39301\, United States
CATEGORIES:Meridian
ATTACH;FMTTYPE=image/jpeg:https://mschildrensmuseum.org/wp-content/uploads/2022/04/IMG_8993-scaled.jpg
END:VEVENT
BEGIN:VEVENT
DTSTART;TZID=America/Chicago:20260805T153000
DTEND;TZID=America/Chicago:20260805T153000
DTSTAMP:20260422T003944
CREATED:20210826T150632Z
LAST-MODIFIED:20251226T214814Z
UID:52633-1785943800-1785943800@mschildrensmuseum.org
SUMMARY:Wonder Wednesday
DESCRIPTION:Wonder Wednesday\nWhat do you wonder about? \nJoin us every Wednesday at 3:30 pm for a hands-on experiment that will cultivate curiosity in guests of all ages! Wonder Wednesday is MCM-Meridian’s latest program that focuses on Science\, Technology\, Engineering\, Art\, and Mathematics with a fun and educational twist. \nPresented by
URL:https://mschildrensmuseum.org/event/wonder-wednesday-2/2026-08-05/
LOCATION:MCM-Meridian\, 403 22nd Avenue\, Meridian\, MS\, 39301\, United States
CATEGORIES:Meridian
ATTACH;FMTTYPE=image/jpeg:https://mschildrensmuseum.org/wp-content/uploads/2021/08/DSC_1567-scaled.jpg
END:VEVENT
BEGIN:VEVENT
DTSTART;TZID=America/Chicago:20260806T100000
DTEND;TZID=America/Chicago:20260806T100000
DTSTAMP:20260422T003944
CREATED:20220413T134837Z
LAST-MODIFIED:20260330T153804Z
UID:52544-1786010400-1786010400@mschildrensmuseum.org
SUMMARY:Rocky's Book Club
DESCRIPTION:Rocky’s Book Club\n\n\n\nHave you met the beloved Talk From the Start mascot and literacy advocate\, Rocky the Reader? He’s a jolly pup who loves to read\, play literacy games\, and travel! Join us every morning\, Wednesday – Sunday\, for Rocky’s Book Club as we read some of Rocky’s favorite books for children 0-5+ years old.
URL:https://mschildrensmuseum.org/event/storytime-2022-06-30/2026-08-06/
LOCATION:MCM-Meridian\, 403 22nd Avenue\, Meridian\, MS\, 39301\, United States
CATEGORIES:Meridian
ATTACH;FMTTYPE=image/jpeg:https://mschildrensmuseum.org/wp-content/uploads/2022/04/IMG_8993-scaled.jpg
END:VEVENT
BEGIN:VEVENT
DTSTART;TZID=America/Chicago:20260806T153000
DTEND;TZID=America/Chicago:20260806T153000
DTSTAMP:20260422T003944
CREATED:20220505T143345Z
LAST-MODIFIED:20260108T204826Z
UID:52686-1786030200-1786030200@mschildrensmuseum.org
SUMMARY:Know to Grow
DESCRIPTION:Know to Grow\nJoin us every Thursday at 3:30pm for Know to Grow! This program incorporates our STEAM\, literacy\, and health initiatives to create a multi-disciplinary program where children will make connections between reading\, science\, and the aspects of the natural world. Each week we will read a garden-related story and work together to complete a hands-on gardening activity! \n 
URL:https://mschildrensmuseum.org/event/know-to-grow-2/2026-08-06/
LOCATION:MCM-Meridian\, 403 22nd Avenue\, Meridian\, MS\, 39301\, United States
CATEGORIES:Meridian
ATTACH;FMTTYPE=image/jpeg:https://mschildrensmuseum.org/wp-content/uploads/2022/05/IMG_7078-scaled.jpg
END:VEVENT
BEGIN:VEVENT
DTSTART;TZID=America/Chicago:20260807T100000
DTEND;TZID=America/Chicago:20260807T100000
DTSTAMP:20260422T003944
CREATED:20220413T134837Z
LAST-MODIFIED:20260330T153804Z
UID:52545-1786096800-1786096800@mschildrensmuseum.org
SUMMARY:Rocky's Book Club
DESCRIPTION:Rocky’s Book Club\n\n\n\nHave you met the beloved Talk From the Start mascot and literacy advocate\, Rocky the Reader? He’s a jolly pup who loves to read\, play literacy games\, and travel! Join us every morning\, Wednesday – Sunday\, for Rocky’s Book Club as we read some of Rocky’s favorite books for children 0-5+ years old.
URL:https://mschildrensmuseum.org/event/storytime-2022-06-30/2026-08-07/
LOCATION:MCM-Meridian\, 403 22nd Avenue\, Meridian\, MS\, 39301\, United States
CATEGORIES:Meridian
ATTACH;FMTTYPE=image/jpeg:https://mschildrensmuseum.org/wp-content/uploads/2022/04/IMG_8993-scaled.jpg
END:VEVENT
BEGIN:VEVENT
DTSTART;TZID=America/Chicago:20260807T153000
DTEND;TZID=America/Chicago:20260807T153000
DTSTAMP:20260422T003944
CREATED:20230524T154813Z
LAST-MODIFIED:20251226T215821Z
UID:52902-1786116600-1786116600@mschildrensmuseum.org
SUMMARY:Artful Friday
DESCRIPTION:Artful Friday\nSponsored by: Sissie & Fred Wile\nExpress yourself creatively during MCM-Meridian’s Artful Friday! \nEvery Friday at 3:30pm\, join us for a guided program where we will learn and create together.
URL:https://mschildrensmuseum.org/event/artful-friday/2026-08-07/
LOCATION:MCM-Meridian\, 403 22nd Avenue\, Meridian\, MS\, 39301\, United States
CATEGORIES:Meridian
ATTACH;FMTTYPE=image/jpeg:https://mschildrensmuseum.org/wp-content/uploads/2023/05/DSC_2334-1-scaled.jpg
END:VEVENT
BEGIN:VEVENT
DTSTART;TZID=America/Chicago:20260808T110000
DTEND;TZID=America/Chicago:20260808T113000
DTSTAMP:20260422T003944
CREATED:20220413T134837Z
LAST-MODIFIED:20260330T153804Z
UID:54135-1786186800-1786188600@mschildrensmuseum.org
SUMMARY:Rocky's Book Club
DESCRIPTION:Rocky’s Book Club\n\n\n\nHave you met the beloved Talk From the Start mascot and literacy advocate\, Rocky the Reader? He’s a jolly pup who loves to read\, play literacy games\, and travel! Join us every morning\, Wednesday – Sunday\, for Rocky’s Book Club as we read some of Rocky’s favorite books for children 0-5+ years old.
URL:https://mschildrensmuseum.org/event/storytime-2022-06-30/2026-08-08/
LOCATION:MCM-Meridian\, 403 22nd Avenue\, Meridian\, MS\, 39301\, United States
CATEGORIES:Meridian
ATTACH;FMTTYPE=image/jpeg:https://mschildrensmuseum.org/wp-content/uploads/2022/04/IMG_8993-scaled.jpg
END:VEVENT
BEGIN:VEVENT
DTSTART;TZID=America/Chicago:20260809T140000
DTEND;TZID=America/Chicago:20260809T143000
DTSTAMP:20260422T003944
CREATED:20220413T134837Z
LAST-MODIFIED:20260330T153804Z
UID:54136-1786284000-1786285800@mschildrensmuseum.org
SUMMARY:Rocky's Book Club
DESCRIPTION:Rocky’s Book Club\n\n\n\nHave you met the beloved Talk From the Start mascot and literacy advocate\, Rocky the Reader? He’s a jolly pup who loves to read\, play literacy games\, and travel! Join us every morning\, Wednesday – Sunday\, for Rocky’s Book Club as we read some of Rocky’s favorite books for children 0-5+ years old.
URL:https://mschildrensmuseum.org/event/storytime-2022-06-30/2026-08-09/
LOCATION:MCM-Meridian\, 403 22nd Avenue\, Meridian\, MS\, 39301\, United States
CATEGORIES:Meridian
ATTACH;FMTTYPE=image/jpeg:https://mschildrensmuseum.org/wp-content/uploads/2022/04/IMG_8993-scaled.jpg
END:VEVENT
BEGIN:VEVENT
DTSTART;TZID=America/Chicago:20260811T100000
DTEND;TZID=America/Chicago:20260811T100000
DTSTAMP:20260422T003944
CREATED:20220309T194013Z
LAST-MODIFIED:20251226T215225Z
UID:52874-1786442400-1786442400@mschildrensmuseum.org
SUMMARY:ABC Come Play with Me
DESCRIPTION:ABC Come Play With Me\nABC Come Play with Me is our program designed specifically for infants\, toddlers\, and their caregivers. Give your little one a jump start on the ABCs and 123s with this program. We will start the morning with the alphabet song\, a story\, and either an art project of sensory experience. \nJoin us every Tuesday at 10:00 am as we use our five senses to discover our incredible world.
URL:https://mschildrensmuseum.org/event/abc-come-play-with-me-2/2026-08-11/
LOCATION:MCM-Meridian\, 403 22nd Avenue\, Meridian\, MS\, 39301\, United States
CATEGORIES:Meridian
ATTACH;FMTTYPE=image/jpeg:https://mschildrensmuseum.org/wp-content/uploads/2021/06/IMG_6408-scaled.jpg
END:VEVENT
BEGIN:VEVENT
DTSTART;TZID=America/Chicago:20260811T153000
DTEND;TZID=America/Chicago:20260811T153000
DTSTAMP:20260422T003944
CREATED:20220429T184607Z
LAST-MODIFIED:20220429T184607Z
UID:52286-1786462200-1786462200@mschildrensmuseum.org
SUMMARY:Tech Tuesday
DESCRIPTION:Tech Tuesday\nJoin us every Tuesday at 3:30pm for our technology-based program! This facilitated program aims to foster STEAM education through inquiry-based learning\, coding\, and robotics.
URL:https://mschildrensmuseum.org/event/tech-tuesday-2/2026-08-11/
LOCATION:MCM-Meridian\, 403 22nd Avenue\, Meridian\, MS\, 39301\, United States
CATEGORIES:Meridian
ATTACH;FMTTYPE=image/jpeg:https://mschildrensmuseum.org/wp-content/uploads/2022/04/DSC_1527-1-scaled.jpg
END:VEVENT
BEGIN:VEVENT
DTSTART;TZID=America/Chicago:20260812T100000
DTEND;TZID=America/Chicago:20260812T100000
DTSTAMP:20260422T003944
CREATED:20220413T134837Z
LAST-MODIFIED:20260330T153805Z
UID:52546-1786528800-1786528800@mschildrensmuseum.org
SUMMARY:Rocky's Book Club
DESCRIPTION:Rocky’s Book Club\n\n\n\nHave you met the beloved Talk From the Start mascot and literacy advocate\, Rocky the Reader? He’s a jolly pup who loves to read\, play literacy games\, and travel! Join us every morning\, Wednesday – Sunday\, for Rocky’s Book Club as we read some of Rocky’s favorite books for children 0-5+ years old.
URL:https://mschildrensmuseum.org/event/storytime-2022-06-30/2026-08-12/
LOCATION:MCM-Meridian\, 403 22nd Avenue\, Meridian\, MS\, 39301\, United States
CATEGORIES:Meridian
ATTACH;FMTTYPE=image/jpeg:https://mschildrensmuseum.org/wp-content/uploads/2022/04/IMG_8993-scaled.jpg
END:VEVENT
BEGIN:VEVENT
DTSTART;TZID=America/Chicago:20260812T153000
DTEND;TZID=America/Chicago:20260812T153000
DTSTAMP:20260422T003944
CREATED:20210826T150632Z
LAST-MODIFIED:20251226T214814Z
UID:52634-1786548600-1786548600@mschildrensmuseum.org
SUMMARY:Wonder Wednesday
DESCRIPTION:Wonder Wednesday\nWhat do you wonder about? \nJoin us every Wednesday at 3:30 pm for a hands-on experiment that will cultivate curiosity in guests of all ages! Wonder Wednesday is MCM-Meridian’s latest program that focuses on Science\, Technology\, Engineering\, Art\, and Mathematics with a fun and educational twist. \nPresented by
URL:https://mschildrensmuseum.org/event/wonder-wednesday-2/2026-08-12/
LOCATION:MCM-Meridian\, 403 22nd Avenue\, Meridian\, MS\, 39301\, United States
CATEGORIES:Meridian
ATTACH;FMTTYPE=image/jpeg:https://mschildrensmuseum.org/wp-content/uploads/2021/08/DSC_1567-scaled.jpg
END:VEVENT
BEGIN:VEVENT
DTSTART;TZID=America/Chicago:20260813T100000
DTEND;TZID=America/Chicago:20260813T100000
DTSTAMP:20260422T003944
CREATED:20220413T134837Z
LAST-MODIFIED:20260330T153805Z
UID:52547-1786615200-1786615200@mschildrensmuseum.org
SUMMARY:Rocky's Book Club
DESCRIPTION:Rocky’s Book Club\n\n\n\nHave you met the beloved Talk From the Start mascot and literacy advocate\, Rocky the Reader? He’s a jolly pup who loves to read\, play literacy games\, and travel! Join us every morning\, Wednesday – Sunday\, for Rocky’s Book Club as we read some of Rocky’s favorite books for children 0-5+ years old.
URL:https://mschildrensmuseum.org/event/storytime-2022-06-30/2026-08-13/
LOCATION:MCM-Meridian\, 403 22nd Avenue\, Meridian\, MS\, 39301\, United States
CATEGORIES:Meridian
ATTACH;FMTTYPE=image/jpeg:https://mschildrensmuseum.org/wp-content/uploads/2022/04/IMG_8993-scaled.jpg
END:VEVENT
BEGIN:VEVENT
DTSTART;TZID=America/Chicago:20260813T153000
DTEND;TZID=America/Chicago:20260813T153000
DTSTAMP:20260422T003944
CREATED:20220505T143345Z
LAST-MODIFIED:20260108T204826Z
UID:52687-1786635000-1786635000@mschildrensmuseum.org
SUMMARY:Know to Grow
DESCRIPTION:Know to Grow\nJoin us every Thursday at 3:30pm for Know to Grow! This program incorporates our STEAM\, literacy\, and health initiatives to create a multi-disciplinary program where children will make connections between reading\, science\, and the aspects of the natural world. Each week we will read a garden-related story and work together to complete a hands-on gardening activity! \n 
URL:https://mschildrensmuseum.org/event/know-to-grow-2/2026-08-13/
LOCATION:MCM-Meridian\, 403 22nd Avenue\, Meridian\, MS\, 39301\, United States
CATEGORIES:Meridian
ATTACH;FMTTYPE=image/jpeg:https://mschildrensmuseum.org/wp-content/uploads/2022/05/IMG_7078-scaled.jpg
END:VEVENT
BEGIN:VEVENT
DTSTART;TZID=America/Chicago:20260814T100000
DTEND;TZID=America/Chicago:20260814T100000
DTSTAMP:20260422T003944
CREATED:20220413T134837Z
LAST-MODIFIED:20260330T153805Z
UID:52548-1786701600-1786701600@mschildrensmuseum.org
SUMMARY:Rocky's Book Club
DESCRIPTION:Rocky’s Book Club\n\n\n\nHave you met the beloved Talk From the Start mascot and literacy advocate\, Rocky the Reader? He’s a jolly pup who loves to read\, play literacy games\, and travel! Join us every morning\, Wednesday – Sunday\, for Rocky’s Book Club as we read some of Rocky’s favorite books for children 0-5+ years old.
URL:https://mschildrensmuseum.org/event/storytime-2022-06-30/2026-08-14/
LOCATION:MCM-Meridian\, 403 22nd Avenue\, Meridian\, MS\, 39301\, United States
CATEGORIES:Meridian
ATTACH;FMTTYPE=image/jpeg:https://mschildrensmuseum.org/wp-content/uploads/2022/04/IMG_8993-scaled.jpg
END:VEVENT
BEGIN:VEVENT
DTSTART;TZID=America/Chicago:20260814T153000
DTEND;TZID=America/Chicago:20260814T153000
DTSTAMP:20260422T003944
CREATED:20230524T154813Z
LAST-MODIFIED:20251226T215822Z
UID:52903-1786721400-1786721400@mschildrensmuseum.org
SUMMARY:Artful Friday
DESCRIPTION:Artful Friday\nSponsored by: Sissie & Fred Wile\nExpress yourself creatively during MCM-Meridian’s Artful Friday! \nEvery Friday at 3:30pm\, join us for a guided program where we will learn and create together.
URL:https://mschildrensmuseum.org/event/artful-friday/2026-08-14/
LOCATION:MCM-Meridian\, 403 22nd Avenue\, Meridian\, MS\, 39301\, United States
CATEGORIES:Meridian
ATTACH;FMTTYPE=image/jpeg:https://mschildrensmuseum.org/wp-content/uploads/2023/05/DSC_2334-1-scaled.jpg
END:VEVENT
BEGIN:VEVENT
DTSTART;TZID=America/Chicago:20260815T110000
DTEND;TZID=America/Chicago:20260815T113000
DTSTAMP:20260422T003944
CREATED:20220413T134837Z
LAST-MODIFIED:20260330T153807Z
UID:54137-1786791600-1786793400@mschildrensmuseum.org
SUMMARY:Rocky's Book Club
DESCRIPTION:Rocky’s Book Club\n\n\n\nHave you met the beloved Talk From the Start mascot and literacy advocate\, Rocky the Reader? He’s a jolly pup who loves to read\, play literacy games\, and travel! Join us every morning\, Wednesday – Sunday\, for Rocky’s Book Club as we read some of Rocky’s favorite books for children 0-5+ years old.
URL:https://mschildrensmuseum.org/event/storytime-2022-06-30/2026-08-15/
LOCATION:MCM-Meridian\, 403 22nd Avenue\, Meridian\, MS\, 39301\, United States
CATEGORIES:Meridian
ATTACH;FMTTYPE=image/jpeg:https://mschildrensmuseum.org/wp-content/uploads/2022/04/IMG_8993-scaled.jpg
END:VEVENT
BEGIN:VEVENT
DTSTART;TZID=America/Chicago:20260816T140000
DTEND;TZID=America/Chicago:20260816T143000
DTSTAMP:20260422T003944
CREATED:20220413T134837Z
LAST-MODIFIED:20260330T153807Z
UID:54138-1786888800-1786890600@mschildrensmuseum.org
SUMMARY:Rocky's Book Club
DESCRIPTION:Rocky’s Book Club\n\n\n\nHave you met the beloved Talk From the Start mascot and literacy advocate\, Rocky the Reader? He’s a jolly pup who loves to read\, play literacy games\, and travel! Join us every morning\, Wednesday – Sunday\, for Rocky’s Book Club as we read some of Rocky’s favorite books for children 0-5+ years old.
URL:https://mschildrensmuseum.org/event/storytime-2022-06-30/2026-08-16/
LOCATION:MCM-Meridian\, 403 22nd Avenue\, Meridian\, MS\, 39301\, United States
CATEGORIES:Meridian
ATTACH;FMTTYPE=image/jpeg:https://mschildrensmuseum.org/wp-content/uploads/2022/04/IMG_8993-scaled.jpg
END:VEVENT
BEGIN:VEVENT
DTSTART;TZID=America/Chicago:20260818T100000
DTEND;TZID=America/Chicago:20260818T100000
DTSTAMP:20260422T003944
CREATED:20220309T194013Z
LAST-MODIFIED:20251226T215225Z
UID:52875-1787047200-1787047200@mschildrensmuseum.org
SUMMARY:ABC Come Play with Me
DESCRIPTION:ABC Come Play With Me\nABC Come Play with Me is our program designed specifically for infants\, toddlers\, and their caregivers. Give your little one a jump start on the ABCs and 123s with this program. We will start the morning with the alphabet song\, a story\, and either an art project of sensory experience. \nJoin us every Tuesday at 10:00 am as we use our five senses to discover our incredible world.
URL:https://mschildrensmuseum.org/event/abc-come-play-with-me-2/2026-08-18/
LOCATION:MCM-Meridian\, 403 22nd Avenue\, Meridian\, MS\, 39301\, United States
CATEGORIES:Meridian
ATTACH;FMTTYPE=image/jpeg:https://mschildrensmuseum.org/wp-content/uploads/2021/06/IMG_6408-scaled.jpg
END:VEVENT
BEGIN:VEVENT
DTSTART;TZID=America/Chicago:20260818T153000
DTEND;TZID=America/Chicago:20260818T153000
DTSTAMP:20260422T003944
CREATED:20220429T184607Z
LAST-MODIFIED:20220429T184607Z
UID:52287-1787067000-1787067000@mschildrensmuseum.org
SUMMARY:Tech Tuesday
DESCRIPTION:Tech Tuesday\nJoin us every Tuesday at 3:30pm for our technology-based program! This facilitated program aims to foster STEAM education through inquiry-based learning\, coding\, and robotics.
URL:https://mschildrensmuseum.org/event/tech-tuesday-2/2026-08-18/
LOCATION:MCM-Meridian\, 403 22nd Avenue\, Meridian\, MS\, 39301\, United States
CATEGORIES:Meridian
ATTACH;FMTTYPE=image/jpeg:https://mschildrensmuseum.org/wp-content/uploads/2022/04/DSC_1527-1-scaled.jpg
END:VEVENT
BEGIN:VEVENT
DTSTART;TZID=America/Chicago:20260819T100000
DTEND;TZID=America/Chicago:20260819T100000
DTSTAMP:20260422T003944
CREATED:20220413T134837Z
LAST-MODIFIED:20260330T153808Z
UID:52549-1787133600-1787133600@mschildrensmuseum.org
SUMMARY:Rocky's Book Club
DESCRIPTION:Rocky’s Book Club\n\n\n\nHave you met the beloved Talk From the Start mascot and literacy advocate\, Rocky the Reader? He’s a jolly pup who loves to read\, play literacy games\, and travel! Join us every morning\, Wednesday – Sunday\, for Rocky’s Book Club as we read some of Rocky’s favorite books for children 0-5+ years old.
URL:https://mschildrensmuseum.org/event/storytime-2022-06-30/2026-08-19/
LOCATION:MCM-Meridian\, 403 22nd Avenue\, Meridian\, MS\, 39301\, United States
CATEGORIES:Meridian
ATTACH;FMTTYPE=image/jpeg:https://mschildrensmuseum.org/wp-content/uploads/2022/04/IMG_8993-scaled.jpg
END:VEVENT
BEGIN:VEVENT
DTSTART;TZID=America/Chicago:20260819T153000
DTEND;TZID=America/Chicago:20260819T153000
DTSTAMP:20260422T003944
CREATED:20210826T150632Z
LAST-MODIFIED:20251226T214814Z
UID:52635-1787153400-1787153400@mschildrensmuseum.org
SUMMARY:Wonder Wednesday
DESCRIPTION:Wonder Wednesday\nWhat do you wonder about? \nJoin us every Wednesday at 3:30 pm for a hands-on experiment that will cultivate curiosity in guests of all ages! Wonder Wednesday is MCM-Meridian’s latest program that focuses on Science\, Technology\, Engineering\, Art\, and Mathematics with a fun and educational twist. \nPresented by
URL:https://mschildrensmuseum.org/event/wonder-wednesday-2/2026-08-19/
LOCATION:MCM-Meridian\, 403 22nd Avenue\, Meridian\, MS\, 39301\, United States
CATEGORIES:Meridian
ATTACH;FMTTYPE=image/jpeg:https://mschildrensmuseum.org/wp-content/uploads/2021/08/DSC_1567-scaled.jpg
END:VEVENT
BEGIN:VEVENT
DTSTART;TZID=America/Chicago:20260820T100000
DTEND;TZID=America/Chicago:20260820T100000
DTSTAMP:20260422T003944
CREATED:20220413T134837Z
LAST-MODIFIED:20260330T153808Z
UID:52550-1787220000-1787220000@mschildrensmuseum.org
SUMMARY:Rocky's Book Club
DESCRIPTION:Rocky’s Book Club\n\n\n\nHave you met the beloved Talk From the Start mascot and literacy advocate\, Rocky the Reader? He’s a jolly pup who loves to read\, play literacy games\, and travel! Join us every morning\, Wednesday – Sunday\, for Rocky’s Book Club as we read some of Rocky’s favorite books for children 0-5+ years old.
URL:https://mschildrensmuseum.org/event/storytime-2022-06-30/2026-08-20/
LOCATION:MCM-Meridian\, 403 22nd Avenue\, Meridian\, MS\, 39301\, United States
CATEGORIES:Meridian
ATTACH;FMTTYPE=image/jpeg:https://mschildrensmuseum.org/wp-content/uploads/2022/04/IMG_8993-scaled.jpg
END:VEVENT
BEGIN:VEVENT
DTSTART;TZID=America/Chicago:20260820T153000
DTEND;TZID=America/Chicago:20260820T153000
DTSTAMP:20260422T003944
CREATED:20220505T143345Z
LAST-MODIFIED:20260108T204826Z
UID:52688-1787239800-1787239800@mschildrensmuseum.org
SUMMARY:Know to Grow
DESCRIPTION:Know to Grow\nJoin us every Thursday at 3:30pm for Know to Grow! This program incorporates our STEAM\, literacy\, and health initiatives to create a multi-disciplinary program where children will make connections between reading\, science\, and the aspects of the natural world. Each week we will read a garden-related story and work together to complete a hands-on gardening activity! \n 
URL:https://mschildrensmuseum.org/event/know-to-grow-2/2026-08-20/
LOCATION:MCM-Meridian\, 403 22nd Avenue\, Meridian\, MS\, 39301\, United States
CATEGORIES:Meridian
ATTACH;FMTTYPE=image/jpeg:https://mschildrensmuseum.org/wp-content/uploads/2022/05/IMG_7078-scaled.jpg
END:VEVENT
BEGIN:VEVENT
DTSTART;TZID=America/Chicago:20260821T100000
DTEND;TZID=America/Chicago:20260821T100000
DTSTAMP:20260422T003944
CREATED:20220413T134837Z
LAST-MODIFIED:20260330T153808Z
UID:52551-1787306400-1787306400@mschildrensmuseum.org
SUMMARY:Rocky's Book Club
DESCRIPTION:Rocky’s Book Club\n\n\n\nHave you met the beloved Talk From the Start mascot and literacy advocate\, Rocky the Reader? He’s a jolly pup who loves to read\, play literacy games\, and travel! Join us every morning\, Wednesday – Sunday\, for Rocky’s Book Club as we read some of Rocky’s favorite books for children 0-5+ years old.
URL:https://mschildrensmuseum.org/event/storytime-2022-06-30/2026-08-21/
LOCATION:MCM-Meridian\, 403 22nd Avenue\, Meridian\, MS\, 39301\, United States
CATEGORIES:Meridian
ATTACH;FMTTYPE=image/jpeg:https://mschildrensmuseum.org/wp-content/uploads/2022/04/IMG_8993-scaled.jpg
END:VEVENT
END:VCALENDAR