BEGIN:VCALENDAR
VERSION:2.0
PRODID:-//Mississippi Children&#039;s Museum - ECPv6.15.20//NONSGML v1.0//EN
CALSCALE:GREGORIAN
METHOD:PUBLISH
X-WR-CALNAME:Mississippi Children&#039;s Museum
X-ORIGINAL-URL:https://mschildrensmuseum.org
X-WR-CALDESC:Events for Mississippi Children&#039;s Museum
REFRESH-INTERVAL;VALUE=DURATION:PT1H
X-Robots-Tag:noindex
X-PUBLISHED-TTL:PT1H
BEGIN:VTIMEZONE
TZID:America/Chicago
BEGIN:DAYLIGHT
TZOFFSETFROM:-0600
TZOFFSETTO:-0500
TZNAME:CDT
DTSTART:20250309T080000
END:DAYLIGHT
BEGIN:STANDARD
TZOFFSETFROM:-0500
TZOFFSETTO:-0600
TZNAME:CST
DTSTART:20251102T070000
END:STANDARD
BEGIN:DAYLIGHT
TZOFFSETFROM:-0600
TZOFFSETTO:-0500
TZNAME:CDT
DTSTART:20260308T080000
END:DAYLIGHT
BEGIN:STANDARD
TZOFFSETFROM:-0500
TZOFFSETTO:-0600
TZNAME:CST
DTSTART:20261101T070000
END:STANDARD
BEGIN:DAYLIGHT
TZOFFSETFROM:-0600
TZOFFSETTO:-0500
TZNAME:CDT
DTSTART:20270314T080000
END:DAYLIGHT
BEGIN:STANDARD
TZOFFSETFROM:-0500
TZOFFSETTO:-0600
TZNAME:CST
DTSTART:20271107T070000
END:STANDARD
END:VTIMEZONE
BEGIN:VEVENT
DTSTART;TZID=America/Chicago:20260701T100000
DTEND;TZID=America/Chicago:20260701T100000
DTSTAMP:20260421T122306
CREATED:20220413T134837Z
LAST-MODIFIED:20260330T153752Z
UID:52528-1782900000-1782900000@mschildrensmuseum.org
SUMMARY:Rocky's Book Club
DESCRIPTION:Rocky’s Book Club\n\n\n\nHave you met the beloved Talk From the Start mascot and literacy advocate\, Rocky the Reader? He’s a jolly pup who loves to read\, play literacy games\, and travel! Join us every morning\, Wednesday – Sunday\, for Rocky’s Book Club as we read some of Rocky’s favorite books for children 0-5+ years old.
URL:https://mschildrensmuseum.org/event/storytime-2022-06-30/2026-07-01/
LOCATION:MCM-Meridian\, 403 22nd Avenue\, Meridian\, MS\, 39301\, United States
CATEGORIES:Meridian
ATTACH;FMTTYPE=image/jpeg:https://mschildrensmuseum.org/wp-content/uploads/2022/04/IMG_8993-scaled.jpg
END:VEVENT
BEGIN:VEVENT
DTSTART;TZID=America/Chicago:20260701T153000
DTEND;TZID=America/Chicago:20260701T153000
DTSTAMP:20260421T122306
CREATED:20210826T150632Z
LAST-MODIFIED:20251226T214812Z
UID:52628-1782919800-1782919800@mschildrensmuseum.org
SUMMARY:Wonder Wednesday
DESCRIPTION:Wonder Wednesday\nWhat do you wonder about? \nJoin us every Wednesday at 3:30 pm for a hands-on experiment that will cultivate curiosity in guests of all ages! Wonder Wednesday is MCM-Meridian’s latest program that focuses on Science\, Technology\, Engineering\, Art\, and Mathematics with a fun and educational twist. \nPresented by
URL:https://mschildrensmuseum.org/event/wonder-wednesday-2/2026-07-01/
LOCATION:MCM-Meridian\, 403 22nd Avenue\, Meridian\, MS\, 39301\, United States
CATEGORIES:Meridian
ATTACH;FMTTYPE=image/jpeg:https://mschildrensmuseum.org/wp-content/uploads/2021/08/DSC_1567-scaled.jpg
END:VEVENT
BEGIN:VEVENT
DTSTART;TZID=America/Chicago:20260702T100000
DTEND;TZID=America/Chicago:20260702T100000
DTSTAMP:20260421T122306
CREATED:20220413T134837Z
LAST-MODIFIED:20260330T153752Z
UID:52529-1782986400-1782986400@mschildrensmuseum.org
SUMMARY:Rocky's Book Club
DESCRIPTION:Rocky’s Book Club\n\n\n\nHave you met the beloved Talk From the Start mascot and literacy advocate\, Rocky the Reader? He’s a jolly pup who loves to read\, play literacy games\, and travel! Join us every morning\, Wednesday – Sunday\, for Rocky’s Book Club as we read some of Rocky’s favorite books for children 0-5+ years old.
URL:https://mschildrensmuseum.org/event/storytime-2022-06-30/2026-07-02/
LOCATION:MCM-Meridian\, 403 22nd Avenue\, Meridian\, MS\, 39301\, United States
CATEGORIES:Meridian
ATTACH;FMTTYPE=image/jpeg:https://mschildrensmuseum.org/wp-content/uploads/2022/04/IMG_8993-scaled.jpg
END:VEVENT
BEGIN:VEVENT
DTSTART;TZID=America/Chicago:20260702T153000
DTEND;TZID=America/Chicago:20260702T153000
DTSTAMP:20260421T122306
CREATED:20220505T143345Z
LAST-MODIFIED:20260108T204824Z
UID:52681-1783006200-1783006200@mschildrensmuseum.org
SUMMARY:Know to Grow
DESCRIPTION:Know to Grow\nJoin us every Thursday at 3:30pm for Know to Grow! This program incorporates our STEAM\, literacy\, and health initiatives to create a multi-disciplinary program where children will make connections between reading\, science\, and the aspects of the natural world. Each week we will read a garden-related story and work together to complete a hands-on gardening activity! \n 
URL:https://mschildrensmuseum.org/event/know-to-grow-2/2026-07-02/
LOCATION:MCM-Meridian\, 403 22nd Avenue\, Meridian\, MS\, 39301\, United States
CATEGORIES:Meridian
ATTACH;FMTTYPE=image/jpeg:https://mschildrensmuseum.org/wp-content/uploads/2022/05/IMG_7078-scaled.jpg
END:VEVENT
BEGIN:VEVENT
DTSTART;TZID=America/Chicago:20260703T100000
DTEND;TZID=America/Chicago:20260703T100000
DTSTAMP:20260421T122306
CREATED:20220413T134837Z
LAST-MODIFIED:20260330T153753Z
UID:52530-1783072800-1783072800@mschildrensmuseum.org
SUMMARY:Rocky's Book Club
DESCRIPTION:Rocky’s Book Club\n\n\n\nHave you met the beloved Talk From the Start mascot and literacy advocate\, Rocky the Reader? He’s a jolly pup who loves to read\, play literacy games\, and travel! Join us every morning\, Wednesday – Sunday\, for Rocky’s Book Club as we read some of Rocky’s favorite books for children 0-5+ years old.
URL:https://mschildrensmuseum.org/event/storytime-2022-06-30/2026-07-03/
LOCATION:MCM-Meridian\, 403 22nd Avenue\, Meridian\, MS\, 39301\, United States
CATEGORIES:Meridian
ATTACH;FMTTYPE=image/jpeg:https://mschildrensmuseum.org/wp-content/uploads/2022/04/IMG_8993-scaled.jpg
END:VEVENT
BEGIN:VEVENT
DTSTART;TZID=America/Chicago:20260703T153000
DTEND;TZID=America/Chicago:20260703T153000
DTSTAMP:20260421T122306
CREATED:20230524T154813Z
LAST-MODIFIED:20251226T215819Z
UID:52897-1783092600-1783092600@mschildrensmuseum.org
SUMMARY:Artful Friday
DESCRIPTION:Artful Friday\nSponsored by: Sissie & Fred Wile\nExpress yourself creatively during MCM-Meridian’s Artful Friday! \nEvery Friday at 3:30pm\, join us for a guided program where we will learn and create together.
URL:https://mschildrensmuseum.org/event/artful-friday/2026-07-03/
LOCATION:MCM-Meridian\, 403 22nd Avenue\, Meridian\, MS\, 39301\, United States
CATEGORIES:Meridian
ATTACH;FMTTYPE=image/jpeg:https://mschildrensmuseum.org/wp-content/uploads/2023/05/DSC_2334-1-scaled.jpg
END:VEVENT
BEGIN:VEVENT
DTSTART;TZID=America/Chicago:20260704T100000
DTEND;TZID=America/Chicago:20260704T150000
DTSTAMP:20260421T122306
CREATED:20240311T211340Z
LAST-MODIFIED:20251226T192530Z
UID:40160-1783159200-1783177200@mschildrensmuseum.org
SUMMARY:Patriotic Day
DESCRIPTION:Wear your red\, white\, and blue and join us at MCM-Meridian to celebrate America’s 250th birthday on July 4 from 10 am to 3 pm! \nFree for MCM Members | $10/Person for Non-Members | Tickets Available at the Door \nPurchase Tickets to the Museum\n 
URL:https://mschildrensmuseum.org/event/patriotic-day-meridian/
LOCATION:MCM-Meridian\, 403 22nd Avenue\, Meridian\, MS\, 39301\, United States
CATEGORIES:Meridian
ATTACH;FMTTYPE=image/jpeg:https://mschildrensmuseum.org/wp-content/uploads/2025/06/068A8182-scaled.jpg
END:VEVENT
BEGIN:VEVENT
DTSTART;TZID=America/Chicago:20260704T110000
DTEND;TZID=America/Chicago:20260704T113000
DTSTAMP:20260421T122306
CREATED:20220413T134837Z
LAST-MODIFIED:20260330T153754Z
UID:54125-1783162800-1783164600@mschildrensmuseum.org
SUMMARY:Rocky's Book Club
DESCRIPTION:Rocky’s Book Club\n\n\n\nHave you met the beloved Talk From the Start mascot and literacy advocate\, Rocky the Reader? He’s a jolly pup who loves to read\, play literacy games\, and travel! Join us every morning\, Wednesday – Sunday\, for Rocky’s Book Club as we read some of Rocky’s favorite books for children 0-5+ years old.
URL:https://mschildrensmuseum.org/event/storytime-2022-06-30/2026-07-04/
LOCATION:MCM-Meridian\, 403 22nd Avenue\, Meridian\, MS\, 39301\, United States
CATEGORIES:Meridian
ATTACH;FMTTYPE=image/jpeg:https://mschildrensmuseum.org/wp-content/uploads/2022/04/IMG_8993-scaled.jpg
END:VEVENT
BEGIN:VEVENT
DTSTART;TZID=America/Chicago:20260705T140000
DTEND;TZID=America/Chicago:20260705T143000
DTSTAMP:20260421T122306
CREATED:20220413T134837Z
LAST-MODIFIED:20260330T153755Z
UID:54126-1783260000-1783261800@mschildrensmuseum.org
SUMMARY:Rocky's Book Club
DESCRIPTION:Rocky’s Book Club\n\n\n\nHave you met the beloved Talk From the Start mascot and literacy advocate\, Rocky the Reader? He’s a jolly pup who loves to read\, play literacy games\, and travel! Join us every morning\, Wednesday – Sunday\, for Rocky’s Book Club as we read some of Rocky’s favorite books for children 0-5+ years old.
URL:https://mschildrensmuseum.org/event/storytime-2022-06-30/2026-07-05/
LOCATION:MCM-Meridian\, 403 22nd Avenue\, Meridian\, MS\, 39301\, United States
CATEGORIES:Meridian
ATTACH;FMTTYPE=image/jpeg:https://mschildrensmuseum.org/wp-content/uploads/2022/04/IMG_8993-scaled.jpg
END:VEVENT
BEGIN:VEVENT
DTSTART;TZID=America/Chicago:20260706T090000
DTEND;TZID=America/Chicago:20260706T170000
DTSTAMP:20260421T122306
CREATED:20251226T173102Z
LAST-MODIFIED:20260316T155022Z
UID:54656-1783328400-1783357200@mschildrensmuseum.org
SUMMARY:Magic Monday: Just Another Magic Monday
DESCRIPTION:Magic Monday\nDid you know MCM-Meridian is open for special\, holiday Mondays from 9am – 5pm for extra hours of inspiration and fun? Magic Monday is the perfect solution to a Monday off from school.  \nEach of these special days includes special museum programing. \nPurchase Tickets to the Museum
URL:https://mschildrensmuseum.org/event/magic-monday-meridian-2-2026-02-16-2026-07-06/
LOCATION:MCM-Meridian\, 403 22nd Avenue\, Meridian\, MS\, 39301\, United States
CATEGORIES:Meridian
ATTACH;FMTTYPE=image/jpeg:https://mschildrensmuseum.org/wp-content/uploads/2025/12/Meridian-4-scaled.jpeg
END:VEVENT
BEGIN:VEVENT
DTSTART;TZID=America/Chicago:20260707T100000
DTEND;TZID=America/Chicago:20260707T100000
DTSTAMP:20260421T122306
CREATED:20220309T194013Z
LAST-MODIFIED:20251226T215222Z
UID:52869-1783418400-1783418400@mschildrensmuseum.org
SUMMARY:ABC Come Play with Me
DESCRIPTION:ABC Come Play With Me\nABC Come Play with Me is our program designed specifically for infants\, toddlers\, and their caregivers. Give your little one a jump start on the ABCs and 123s with this program. We will start the morning with the alphabet song\, a story\, and either an art project of sensory experience. \nJoin us every Tuesday at 10:00 am as we use our five senses to discover our incredible world.
URL:https://mschildrensmuseum.org/event/abc-come-play-with-me-2/2026-07-07/
LOCATION:MCM-Meridian\, 403 22nd Avenue\, Meridian\, MS\, 39301\, United States
CATEGORIES:Meridian
ATTACH;FMTTYPE=image/jpeg:https://mschildrensmuseum.org/wp-content/uploads/2021/06/IMG_6408-scaled.jpg
END:VEVENT
BEGIN:VEVENT
DTSTART;TZID=America/Chicago:20260707T153000
DTEND;TZID=America/Chicago:20260707T153000
DTSTAMP:20260421T122306
CREATED:20220429T184607Z
LAST-MODIFIED:20220429T184607Z
UID:52281-1783438200-1783438200@mschildrensmuseum.org
SUMMARY:Tech Tuesday
DESCRIPTION:Tech Tuesday\nJoin us every Tuesday at 3:30pm for our technology-based program! This facilitated program aims to foster STEAM education through inquiry-based learning\, coding\, and robotics.
URL:https://mschildrensmuseum.org/event/tech-tuesday-2/2026-07-07/
LOCATION:MCM-Meridian\, 403 22nd Avenue\, Meridian\, MS\, 39301\, United States
CATEGORIES:Meridian
ATTACH;FMTTYPE=image/jpeg:https://mschildrensmuseum.org/wp-content/uploads/2022/04/DSC_1527-1-scaled.jpg
END:VEVENT
BEGIN:VEVENT
DTSTART;TZID=America/Chicago:20260708T100000
DTEND;TZID=America/Chicago:20260708T100000
DTSTAMP:20260421T122306
CREATED:20220413T134837Z
LAST-MODIFIED:20260330T153755Z
UID:52531-1783504800-1783504800@mschildrensmuseum.org
SUMMARY:Rocky's Book Club
DESCRIPTION:Rocky’s Book Club\n\n\n\nHave you met the beloved Talk From the Start mascot and literacy advocate\, Rocky the Reader? He’s a jolly pup who loves to read\, play literacy games\, and travel! Join us every morning\, Wednesday – Sunday\, for Rocky’s Book Club as we read some of Rocky’s favorite books for children 0-5+ years old.
URL:https://mschildrensmuseum.org/event/storytime-2022-06-30/2026-07-08/
LOCATION:MCM-Meridian\, 403 22nd Avenue\, Meridian\, MS\, 39301\, United States
CATEGORIES:Meridian
ATTACH;FMTTYPE=image/jpeg:https://mschildrensmuseum.org/wp-content/uploads/2022/04/IMG_8993-scaled.jpg
END:VEVENT
BEGIN:VEVENT
DTSTART;TZID=America/Chicago:20260708T153000
DTEND;TZID=America/Chicago:20260708T153000
DTSTAMP:20260421T122306
CREATED:20210826T150632Z
LAST-MODIFIED:20251226T214813Z
UID:52629-1783524600-1783524600@mschildrensmuseum.org
SUMMARY:Wonder Wednesday
DESCRIPTION:Wonder Wednesday\nWhat do you wonder about? \nJoin us every Wednesday at 3:30 pm for a hands-on experiment that will cultivate curiosity in guests of all ages! Wonder Wednesday is MCM-Meridian’s latest program that focuses on Science\, Technology\, Engineering\, Art\, and Mathematics with a fun and educational twist. \nPresented by
URL:https://mschildrensmuseum.org/event/wonder-wednesday-2/2026-07-08/
LOCATION:MCM-Meridian\, 403 22nd Avenue\, Meridian\, MS\, 39301\, United States
CATEGORIES:Meridian
ATTACH;FMTTYPE=image/jpeg:https://mschildrensmuseum.org/wp-content/uploads/2021/08/DSC_1567-scaled.jpg
END:VEVENT
BEGIN:VEVENT
DTSTART;TZID=America/Chicago:20260709T100000
DTEND;TZID=America/Chicago:20260709T100000
DTSTAMP:20260421T122306
CREATED:20220413T134837Z
LAST-MODIFIED:20260330T153755Z
UID:52532-1783591200-1783591200@mschildrensmuseum.org
SUMMARY:Rocky's Book Club
DESCRIPTION:Rocky’s Book Club\n\n\n\nHave you met the beloved Talk From the Start mascot and literacy advocate\, Rocky the Reader? He’s a jolly pup who loves to read\, play literacy games\, and travel! Join us every morning\, Wednesday – Sunday\, for Rocky’s Book Club as we read some of Rocky’s favorite books for children 0-5+ years old.
URL:https://mschildrensmuseum.org/event/storytime-2022-06-30/2026-07-09/
LOCATION:MCM-Meridian\, 403 22nd Avenue\, Meridian\, MS\, 39301\, United States
CATEGORIES:Meridian
ATTACH;FMTTYPE=image/jpeg:https://mschildrensmuseum.org/wp-content/uploads/2022/04/IMG_8993-scaled.jpg
END:VEVENT
BEGIN:VEVENT
DTSTART;TZID=America/Chicago:20260709T153000
DTEND;TZID=America/Chicago:20260709T153000
DTSTAMP:20260421T122306
CREATED:20220505T143345Z
LAST-MODIFIED:20260108T204825Z
UID:52682-1783611000-1783611000@mschildrensmuseum.org
SUMMARY:Know to Grow
DESCRIPTION:Know to Grow\nJoin us every Thursday at 3:30pm for Know to Grow! This program incorporates our STEAM\, literacy\, and health initiatives to create a multi-disciplinary program where children will make connections between reading\, science\, and the aspects of the natural world. Each week we will read a garden-related story and work together to complete a hands-on gardening activity! \n 
URL:https://mschildrensmuseum.org/event/know-to-grow-2/2026-07-09/
LOCATION:MCM-Meridian\, 403 22nd Avenue\, Meridian\, MS\, 39301\, United States
CATEGORIES:Meridian
ATTACH;FMTTYPE=image/jpeg:https://mschildrensmuseum.org/wp-content/uploads/2022/05/IMG_7078-scaled.jpg
END:VEVENT
BEGIN:VEVENT
DTSTART;TZID=America/Chicago:20260710T100000
DTEND;TZID=America/Chicago:20260710T100000
DTSTAMP:20260421T122306
CREATED:20220413T134837Z
LAST-MODIFIED:20260330T153756Z
UID:52533-1783677600-1783677600@mschildrensmuseum.org
SUMMARY:Rocky's Book Club
DESCRIPTION:Rocky’s Book Club\n\n\n\nHave you met the beloved Talk From the Start mascot and literacy advocate\, Rocky the Reader? He’s a jolly pup who loves to read\, play literacy games\, and travel! Join us every morning\, Wednesday – Sunday\, for Rocky’s Book Club as we read some of Rocky’s favorite books for children 0-5+ years old.
URL:https://mschildrensmuseum.org/event/storytime-2022-06-30/2026-07-10/
LOCATION:MCM-Meridian\, 403 22nd Avenue\, Meridian\, MS\, 39301\, United States
CATEGORIES:Meridian
ATTACH;FMTTYPE=image/jpeg:https://mschildrensmuseum.org/wp-content/uploads/2022/04/IMG_8993-scaled.jpg
END:VEVENT
BEGIN:VEVENT
DTSTART;TZID=America/Chicago:20260710T153000
DTEND;TZID=America/Chicago:20260710T153000
DTSTAMP:20260421T122306
CREATED:20230524T154813Z
LAST-MODIFIED:20251226T215819Z
UID:52898-1783697400-1783697400@mschildrensmuseum.org
SUMMARY:Artful Friday
DESCRIPTION:Artful Friday\nSponsored by: Sissie & Fred Wile\nExpress yourself creatively during MCM-Meridian’s Artful Friday! \nEvery Friday at 3:30pm\, join us for a guided program where we will learn and create together.
URL:https://mschildrensmuseum.org/event/artful-friday/2026-07-10/
LOCATION:MCM-Meridian\, 403 22nd Avenue\, Meridian\, MS\, 39301\, United States
CATEGORIES:Meridian
ATTACH;FMTTYPE=image/jpeg:https://mschildrensmuseum.org/wp-content/uploads/2023/05/DSC_2334-1-scaled.jpg
END:VEVENT
BEGIN:VEVENT
DTSTART;TZID=America/Chicago:20260711T110000
DTEND;TZID=America/Chicago:20260711T113000
DTSTAMP:20260421T122306
CREATED:20220413T134837Z
LAST-MODIFIED:20260330T153756Z
UID:54127-1783767600-1783769400@mschildrensmuseum.org
SUMMARY:Rocky's Book Club
DESCRIPTION:Rocky’s Book Club\n\n\n\nHave you met the beloved Talk From the Start mascot and literacy advocate\, Rocky the Reader? He’s a jolly pup who loves to read\, play literacy games\, and travel! Join us every morning\, Wednesday – Sunday\, for Rocky’s Book Club as we read some of Rocky’s favorite books for children 0-5+ years old.
URL:https://mschildrensmuseum.org/event/storytime-2022-06-30/2026-07-11/
LOCATION:MCM-Meridian\, 403 22nd Avenue\, Meridian\, MS\, 39301\, United States
CATEGORIES:Meridian
ATTACH;FMTTYPE=image/jpeg:https://mschildrensmuseum.org/wp-content/uploads/2022/04/IMG_8993-scaled.jpg
END:VEVENT
BEGIN:VEVENT
DTSTART;TZID=America/Chicago:20260712T140000
DTEND;TZID=America/Chicago:20260712T143000
DTSTAMP:20260421T122306
CREATED:20220413T134837Z
LAST-MODIFIED:20260330T153756Z
UID:54128-1783864800-1783866600@mschildrensmuseum.org
SUMMARY:Rocky's Book Club
DESCRIPTION:Rocky’s Book Club\n\n\n\nHave you met the beloved Talk From the Start mascot and literacy advocate\, Rocky the Reader? He’s a jolly pup who loves to read\, play literacy games\, and travel! Join us every morning\, Wednesday – Sunday\, for Rocky’s Book Club as we read some of Rocky’s favorite books for children 0-5+ years old.
URL:https://mschildrensmuseum.org/event/storytime-2022-06-30/2026-07-12/
LOCATION:MCM-Meridian\, 403 22nd Avenue\, Meridian\, MS\, 39301\, United States
CATEGORIES:Meridian
ATTACH;FMTTYPE=image/jpeg:https://mschildrensmuseum.org/wp-content/uploads/2022/04/IMG_8993-scaled.jpg
END:VEVENT
BEGIN:VEVENT
DTSTART;TZID=America/Chicago:20260713T090000
DTEND;TZID=America/Chicago:20260713T170000
DTSTAMP:20260421T122306
CREATED:20251226T173102Z
LAST-MODIFIED:20260316T155715Z
UID:54657-1783933200-1783962000@mschildrensmuseum.org
SUMMARY:Magic Monday: Dino Discovery
DESCRIPTION:Magic Monday\nDid you know MCM-Meridian is open for special\, holiday Mondays from 9am – 5pm for extra hours of inspiration and fun? Magic Monday is the perfect solution to a Monday off from school.  \nEach of these special days includes special museum programing.\n \nSpecial Guest:  Mississippi Museum of Natural Science \nPurchase Tickets to the Museum
URL:https://mschildrensmuseum.org/event/magic-monday-meridian-2-2026-02-16-2026-07-13/
LOCATION:MCM-Meridian\, 403 22nd Avenue\, Meridian\, MS\, 39301\, United States
CATEGORIES:Meridian
ATTACH;FMTTYPE=image/jpeg:https://mschildrensmuseum.org/wp-content/uploads/2025/12/Meridian-4-scaled.jpeg
END:VEVENT
BEGIN:VEVENT
DTSTART;TZID=America/Chicago:20260714T100000
DTEND;TZID=America/Chicago:20260714T100000
DTSTAMP:20260421T122306
CREATED:20220309T194013Z
LAST-MODIFIED:20251226T215223Z
UID:52870-1784023200-1784023200@mschildrensmuseum.org
SUMMARY:ABC Come Play with Me
DESCRIPTION:ABC Come Play With Me\nABC Come Play with Me is our program designed specifically for infants\, toddlers\, and their caregivers. Give your little one a jump start on the ABCs and 123s with this program. We will start the morning with the alphabet song\, a story\, and either an art project of sensory experience. \nJoin us every Tuesday at 10:00 am as we use our five senses to discover our incredible world.
URL:https://mschildrensmuseum.org/event/abc-come-play-with-me-2/2026-07-14/
LOCATION:MCM-Meridian\, 403 22nd Avenue\, Meridian\, MS\, 39301\, United States
CATEGORIES:Meridian
ATTACH;FMTTYPE=image/jpeg:https://mschildrensmuseum.org/wp-content/uploads/2021/06/IMG_6408-scaled.jpg
END:VEVENT
BEGIN:VEVENT
DTSTART;TZID=America/Chicago:20260714T153000
DTEND;TZID=America/Chicago:20260714T153000
DTSTAMP:20260421T122306
CREATED:20220429T184607Z
LAST-MODIFIED:20220429T184607Z
UID:52282-1784043000-1784043000@mschildrensmuseum.org
SUMMARY:Tech Tuesday
DESCRIPTION:Tech Tuesday\nJoin us every Tuesday at 3:30pm for our technology-based program! This facilitated program aims to foster STEAM education through inquiry-based learning\, coding\, and robotics.
URL:https://mschildrensmuseum.org/event/tech-tuesday-2/2026-07-14/
LOCATION:MCM-Meridian\, 403 22nd Avenue\, Meridian\, MS\, 39301\, United States
CATEGORIES:Meridian
ATTACH;FMTTYPE=image/jpeg:https://mschildrensmuseum.org/wp-content/uploads/2022/04/DSC_1527-1-scaled.jpg
END:VEVENT
BEGIN:VEVENT
DTSTART;TZID=America/Chicago:20260715T100000
DTEND;TZID=America/Chicago:20260715T100000
DTSTAMP:20260421T122306
CREATED:20220413T134837Z
LAST-MODIFIED:20260330T153756Z
UID:52534-1784109600-1784109600@mschildrensmuseum.org
SUMMARY:Rocky's Book Club
DESCRIPTION:Rocky’s Book Club\n\n\n\nHave you met the beloved Talk From the Start mascot and literacy advocate\, Rocky the Reader? He’s a jolly pup who loves to read\, play literacy games\, and travel! Join us every morning\, Wednesday – Sunday\, for Rocky’s Book Club as we read some of Rocky’s favorite books for children 0-5+ years old.
URL:https://mschildrensmuseum.org/event/storytime-2022-06-30/2026-07-15/
LOCATION:MCM-Meridian\, 403 22nd Avenue\, Meridian\, MS\, 39301\, United States
CATEGORIES:Meridian
ATTACH;FMTTYPE=image/jpeg:https://mschildrensmuseum.org/wp-content/uploads/2022/04/IMG_8993-scaled.jpg
END:VEVENT
BEGIN:VEVENT
DTSTART;TZID=America/Chicago:20260715T153000
DTEND;TZID=America/Chicago:20260715T153000
DTSTAMP:20260421T122306
CREATED:20210826T150632Z
LAST-MODIFIED:20251226T214813Z
UID:52630-1784129400-1784129400@mschildrensmuseum.org
SUMMARY:Wonder Wednesday
DESCRIPTION:Wonder Wednesday\nWhat do you wonder about? \nJoin us every Wednesday at 3:30 pm for a hands-on experiment that will cultivate curiosity in guests of all ages! Wonder Wednesday is MCM-Meridian’s latest program that focuses on Science\, Technology\, Engineering\, Art\, and Mathematics with a fun and educational twist. \nPresented by
URL:https://mschildrensmuseum.org/event/wonder-wednesday-2/2026-07-15/
LOCATION:MCM-Meridian\, 403 22nd Avenue\, Meridian\, MS\, 39301\, United States
CATEGORIES:Meridian
ATTACH;FMTTYPE=image/jpeg:https://mschildrensmuseum.org/wp-content/uploads/2021/08/DSC_1567-scaled.jpg
END:VEVENT
BEGIN:VEVENT
DTSTART;TZID=America/Chicago:20260716T100000
DTEND;TZID=America/Chicago:20260716T100000
DTSTAMP:20260421T122306
CREATED:20220413T134837Z
LAST-MODIFIED:20260330T153756Z
UID:52535-1784196000-1784196000@mschildrensmuseum.org
SUMMARY:Rocky's Book Club
DESCRIPTION:Rocky’s Book Club\n\n\n\nHave you met the beloved Talk From the Start mascot and literacy advocate\, Rocky the Reader? He’s a jolly pup who loves to read\, play literacy games\, and travel! Join us every morning\, Wednesday – Sunday\, for Rocky’s Book Club as we read some of Rocky’s favorite books for children 0-5+ years old.
URL:https://mschildrensmuseum.org/event/storytime-2022-06-30/2026-07-16/
LOCATION:MCM-Meridian\, 403 22nd Avenue\, Meridian\, MS\, 39301\, United States
CATEGORIES:Meridian
ATTACH;FMTTYPE=image/jpeg:https://mschildrensmuseum.org/wp-content/uploads/2022/04/IMG_8993-scaled.jpg
END:VEVENT
BEGIN:VEVENT
DTSTART;TZID=America/Chicago:20260716T153000
DTEND;TZID=America/Chicago:20260716T153000
DTSTAMP:20260421T122306
CREATED:20220505T143345Z
LAST-MODIFIED:20260108T204825Z
UID:52683-1784215800-1784215800@mschildrensmuseum.org
SUMMARY:Know to Grow
DESCRIPTION:Know to Grow\nJoin us every Thursday at 3:30pm for Know to Grow! This program incorporates our STEAM\, literacy\, and health initiatives to create a multi-disciplinary program where children will make connections between reading\, science\, and the aspects of the natural world. Each week we will read a garden-related story and work together to complete a hands-on gardening activity! \n 
URL:https://mschildrensmuseum.org/event/know-to-grow-2/2026-07-16/
LOCATION:MCM-Meridian\, 403 22nd Avenue\, Meridian\, MS\, 39301\, United States
CATEGORIES:Meridian
ATTACH;FMTTYPE=image/jpeg:https://mschildrensmuseum.org/wp-content/uploads/2022/05/IMG_7078-scaled.jpg
END:VEVENT
BEGIN:VEVENT
DTSTART;TZID=America/Chicago:20260717T100000
DTEND;TZID=America/Chicago:20260717T100000
DTSTAMP:20260421T122306
CREATED:20220413T134837Z
LAST-MODIFIED:20260330T153757Z
UID:52536-1784282400-1784282400@mschildrensmuseum.org
SUMMARY:Rocky's Book Club
DESCRIPTION:Rocky’s Book Club\n\n\n\nHave you met the beloved Talk From the Start mascot and literacy advocate\, Rocky the Reader? He’s a jolly pup who loves to read\, play literacy games\, and travel! Join us every morning\, Wednesday – Sunday\, for Rocky’s Book Club as we read some of Rocky’s favorite books for children 0-5+ years old.
URL:https://mschildrensmuseum.org/event/storytime-2022-06-30/2026-07-17/
LOCATION:MCM-Meridian\, 403 22nd Avenue\, Meridian\, MS\, 39301\, United States
CATEGORIES:Meridian
ATTACH;FMTTYPE=image/jpeg:https://mschildrensmuseum.org/wp-content/uploads/2022/04/IMG_8993-scaled.jpg
END:VEVENT
BEGIN:VEVENT
DTSTART;TZID=America/Chicago:20260717T153000
DTEND;TZID=America/Chicago:20260717T153000
DTSTAMP:20260421T122306
CREATED:20230524T154813Z
LAST-MODIFIED:20251226T215819Z
UID:52899-1784302200-1784302200@mschildrensmuseum.org
SUMMARY:Artful Friday
DESCRIPTION:Artful Friday\nSponsored by: Sissie & Fred Wile\nExpress yourself creatively during MCM-Meridian’s Artful Friday! \nEvery Friday at 3:30pm\, join us for a guided program where we will learn and create together.
URL:https://mschildrensmuseum.org/event/artful-friday/2026-07-17/
LOCATION:MCM-Meridian\, 403 22nd Avenue\, Meridian\, MS\, 39301\, United States
CATEGORIES:Meridian
ATTACH;FMTTYPE=image/jpeg:https://mschildrensmuseum.org/wp-content/uploads/2023/05/DSC_2334-1-scaled.jpg
END:VEVENT
BEGIN:VEVENT
DTSTART;TZID=America/Chicago:20260718T110000
DTEND;TZID=America/Chicago:20260718T113000
DTSTAMP:20260421T122306
CREATED:20220413T134837Z
LAST-MODIFIED:20260330T153758Z
UID:54129-1784372400-1784374200@mschildrensmuseum.org
SUMMARY:Rocky's Book Club
DESCRIPTION:Rocky’s Book Club\n\n\n\nHave you met the beloved Talk From the Start mascot and literacy advocate\, Rocky the Reader? He’s a jolly pup who loves to read\, play literacy games\, and travel! Join us every morning\, Wednesday – Sunday\, for Rocky’s Book Club as we read some of Rocky’s favorite books for children 0-5+ years old.
URL:https://mschildrensmuseum.org/event/storytime-2022-06-30/2026-07-18/
LOCATION:MCM-Meridian\, 403 22nd Avenue\, Meridian\, MS\, 39301\, United States
CATEGORIES:Meridian
ATTACH;FMTTYPE=image/jpeg:https://mschildrensmuseum.org/wp-content/uploads/2022/04/IMG_8993-scaled.jpg
END:VEVENT
END:VCALENDAR