BEGIN:VCALENDAR
VERSION:2.0
PRODID:-//Mississippi Children&#039;s Museum - ECPv6.15.20//NONSGML v1.0//EN
CALSCALE:GREGORIAN
METHOD:PUBLISH
X-ORIGINAL-URL:https://mschildrensmuseum.org
X-WR-CALDESC:Events for Mississippi Children&#039;s Museum
REFRESH-INTERVAL;VALUE=DURATION:PT1H
X-Robots-Tag:noindex
X-PUBLISHED-TTL:PT1H
BEGIN:VTIMEZONE
TZID:America/Chicago
BEGIN:DAYLIGHT
TZOFFSETFROM:-0600
TZOFFSETTO:-0500
TZNAME:CDT
DTSTART:20250309T080000
END:DAYLIGHT
BEGIN:STANDARD
TZOFFSETFROM:-0500
TZOFFSETTO:-0600
TZNAME:CST
DTSTART:20251102T070000
END:STANDARD
BEGIN:DAYLIGHT
TZOFFSETFROM:-0600
TZOFFSETTO:-0500
TZNAME:CDT
DTSTART:20260308T080000
END:DAYLIGHT
BEGIN:STANDARD
TZOFFSETFROM:-0500
TZOFFSETTO:-0600
TZNAME:CST
DTSTART:20261101T070000
END:STANDARD
BEGIN:DAYLIGHT
TZOFFSETFROM:-0600
TZOFFSETTO:-0500
TZNAME:CDT
DTSTART:20270314T080000
END:DAYLIGHT
BEGIN:STANDARD
TZOFFSETFROM:-0500
TZOFFSETTO:-0600
TZNAME:CST
DTSTART:20271107T070000
END:STANDARD
END:VTIMEZONE
BEGIN:VEVENT
DTSTART;TZID=America/Chicago:20261001T110000
DTEND;TZID=America/Chicago:20261001T113000
DTSTAMP:20260421T191057
CREATED:20210202T181827Z
LAST-MODIFIED:20251215T203446Z
UID:51671-1790852400-1790854200@mschildrensmuseum.org
SUMMARY:Mindful Mornings
DESCRIPTION:Mindful Mornings\nMindfulness (noun): the practice of being completely present and in the moment. To slow down and be aware of your surroundings while embracing your senses and feelings. \nMindful Mornings uses a holistic approach to health. It equips both children and their caregivers with the ability to explore new wellness techniques. Join on the first Thursday of every month at 11:00am as we care for the mind\, body\, and soul. \nPurchase tickets to the museum\nMindful Mornings is sponsored by Hinds Behavioral Health Services
URL:https://mschildrensmuseum.org/event/mindful-mornings/2026-10-01/
LOCATION:MCM\, 2145 Museum Boulevard\, Jackson\, MS\, 39202\, United States
CATEGORIES:Jackson
ATTACH;FMTTYPE=image/jpeg:https://mschildrensmuseum.org/wp-content/uploads/2021/01/068A9424-scaled.jpg
END:VEVENT
BEGIN:VEVENT
DTSTART;TZID=America/Chicago:20261001T153000
DTEND;TZID=America/Chicago:20261001T160000
DTSTAMP:20260421T191057
CREATED:20250505T184942Z
LAST-MODIFIED:20260410T143352Z
UID:51649-1790868600-1790870400@mschildrensmuseum.org
SUMMARY:Read With Me
DESCRIPTION:Read With Me\nJoin us twice a week for Read With Me. A story time for children 0-5+ years old. View program page. \nProgram Schedule: \n\nThursday at 3:30pm\nSaturday at 3:30pm\n\nPurchase Tickets to the museum
URL:https://mschildrensmuseum.org/event/read-with-me/2026-10-01/
LOCATION:Mississippi
CATEGORIES:Jackson
ATTACH;FMTTYPE=image/jpeg:https://mschildrensmuseum.org/wp-content/uploads/2025/05/ReadWithMe.jpeg
END:VEVENT
END:VCALENDAR