BEGIN:VCALENDAR
VERSION:2.0
PRODID:-//Mississippi Children&#039;s Museum - ECPv6.15.20//NONSGML v1.0//EN
CALSCALE:GREGORIAN
METHOD:PUBLISH
X-ORIGINAL-URL:https://mschildrensmuseum.org
X-WR-CALDESC:Events for Mississippi Children&#039;s Museum
REFRESH-INTERVAL;VALUE=DURATION:PT1H
X-Robots-Tag:noindex
X-PUBLISHED-TTL:PT1H
BEGIN:VTIMEZONE
TZID:America/Chicago
BEGIN:DAYLIGHT
TZOFFSETFROM:-0600
TZOFFSETTO:-0500
TZNAME:CDT
DTSTART:20250309T080000
END:DAYLIGHT
BEGIN:STANDARD
TZOFFSETFROM:-0500
TZOFFSETTO:-0600
TZNAME:CST
DTSTART:20251102T070000
END:STANDARD
BEGIN:DAYLIGHT
TZOFFSETFROM:-0600
TZOFFSETTO:-0500
TZNAME:CDT
DTSTART:20260308T080000
END:DAYLIGHT
BEGIN:STANDARD
TZOFFSETFROM:-0500
TZOFFSETTO:-0600
TZNAME:CST
DTSTART:20261101T070000
END:STANDARD
BEGIN:DAYLIGHT
TZOFFSETFROM:-0600
TZOFFSETTO:-0500
TZNAME:CDT
DTSTART:20270314T080000
END:DAYLIGHT
BEGIN:STANDARD
TZOFFSETFROM:-0500
TZOFFSETTO:-0600
TZNAME:CST
DTSTART:20271107T070000
END:STANDARD
END:VTIMEZONE
BEGIN:VEVENT
DTSTART;TZID=America/Chicago:20260404T100000
DTEND;TZID=America/Chicago:20260404T103000
DTSTAMP:20260421T211215
CREATED:20210202T183542Z
LAST-MODIFIED:20260401T182112Z
UID:49765-1775296800-1775298600@mschildrensmuseum.org
SUMMARY:Know to Grow
DESCRIPTION:Know to Grow\nJoin us in the Enchanted Land of Story every Saturday at 10:00am for Know to Grow! This program incorporates our STEAM\, literacy\, and health initiatives to create a multi-disciplinary program where children will make connections between reading\, science and the aspects of the natural world. Each week we will read a garden-related story and work together to complete a hands-on gardening activity! \nPurchase Tickets to the Museum\nKnow to Grow is sponsored by Feild CoOp Association
URL:https://mschildrensmuseum.org/event/know-to-grow/2026-04-04/
LOCATION:MCM\, 2145 Museum Boulevard\, Jackson\, MS\, 39202\, United States
CATEGORIES:Jackson
ATTACH;FMTTYPE=image/jpeg:https://mschildrensmuseum.org/wp-content/uploads/2021/01/know-to-grow-hero.jpg
END:VEVENT
BEGIN:VEVENT
DTSTART;TZID=America/Chicago:20260404T100000
DTEND;TZID=America/Chicago:20260404T120000
DTSTAMP:20260421T211215
CREATED:20260325T150652Z
LAST-MODIFIED:20260325T150931Z
UID:55029-1775296800-1775304000@mschildrensmuseum.org
SUMMARY:Visiting Artist: Jo Patterson
DESCRIPTION:Visting Artist: Jo Patterson\nJoin us on Saturday\, April 4\, for a special experience with our Visiting Artist\, Jo Pattersonl! \nPatterson is a member of the Teaching Artist Guild\, Craftsmen’s Guild of Mississippi\, and the Louisiana Craft Guild.  She has honed her skills as a Teaching Artist with over 30 years of teaching as a residency artist at various institutes across the United States. She is a Mixed Media artist currently exploring metalsmithing and lapidary arts designing and forging artisan jewelry. Join us for her “Collaborative Earth Day Collage” workshop. \nWorkshop Time:\n\n10:00am – 12:00pm\n\nPurchase tickets to the museum\nThis project is supported in part by funding from the Mississippi Arts Commission\, a state agency\, and the National Endowment for the Arts\, a federal agency.
URL:https://mschildrensmuseum.org/event/visiting-artist-jo-patterson/
LOCATION:Mississippi Children’s Museum\, 2145 Museum Boulevard\, Jackson\, Mississippi\, 39202
CATEGORIES:Jackson
ATTACH;FMTTYPE=image/jpeg:https://mschildrensmuseum.org/wp-content/uploads/2022/01/artsmart.jpeg
END:VEVENT
BEGIN:VEVENT
DTSTART;TZID=America/Chicago:20260404T100000
DTEND;TZID=America/Chicago:20260404T150000
DTSTAMP:20260421T211215
CREATED:20210315T160255Z
LAST-MODIFIED:20260401T155617Z
UID:8692-1775296800-1775314800@mschildrensmuseum.org
SUMMARY:Bunnies & Butterflies
DESCRIPTION:Spring is right around the corner and we are fluttering with excitement for our annual Bunnies and Butterflies event on April 4! Celebrate Spring at MCM with fun educational activities galore as our beautiful outdoor exhibit\, Enchanted Land of Story\, springs to life. \nThis event is the perfect way to welcome the warm\, sunny weather of the new season. Guests will enjoy gardening activities\, learn about our tiny insect friends\, create a pair of bunny ears or butterfly wings\, and so much more. Members can enjoy entry at 8:00am for face painting and flower crowns! \nActivities & Programs\n9:00 am – 3:00 pm: \n\nButterfly Wing Design\nNature Bookmarks\nButterfly Life Cycle Sensory Bins\nAdopt-a-Worm in MCM’s Enchanted Land of Story\nCamouflage Critters\nKinetic Sand Garden\n9:00 am – 1:30 pm: Face Painting (please note: there is a charge of $10 per face)\n10:00 am & 1:00 pm: Know to Grow\n10:00 am: Visiting Artist: Jo Patterson\n10:00 am – 12:00 pm & 1:00 pm – 3:00 pm: 3D Pen Creatures\n10:45 am & 1:45 pm: Read to the Seeds\n11:30 am & 2:30 pm: Science of Bubbles\n2:00 pm: Reading of Brooklyn Braveheart by author Shayla Swan\n\n  \nFree for MCM Members | $13/Person for Non-Members | Tickets Available at the Door \nPurchase Tickets to the Museum
URL:https://mschildrensmuseum.org/event/bunnies-butterflies/
LOCATION:MCM\, 2145 Museum Boulevard\, Jackson\, MS\, 39202\, United States
CATEGORIES:Jackson
ATTACH;FMTTYPE=image/jpeg:https://mschildrensmuseum.org/wp-content/uploads/2021/03/20170517_ABCComePlayWithMe_20-1-scaled-e1615823773649.jpg
END:VEVENT
BEGIN:VEVENT
DTSTART;TZID=America/Chicago:20260404T153000
DTEND;TZID=America/Chicago:20260404T160000
DTSTAMP:20260421T211215
CREATED:20250505T184942Z
LAST-MODIFIED:20260410T143325Z
UID:48076-1775316600-1775318400@mschildrensmuseum.org
SUMMARY:Read With Me
DESCRIPTION:Read With Me\nJoin us twice a week for Read With Me. A story time for children 0-5+ years old. View program page. \nProgram Schedule: \n\nThursday at 3:30pm\nSaturday at 3:30pm\n\nPurchase Tickets to the museum
URL:https://mschildrensmuseum.org/event/read-with-me/2026-04-04/
LOCATION:Mississippi
CATEGORIES:Jackson
ATTACH;FMTTYPE=image/jpeg:https://mschildrensmuseum.org/wp-content/uploads/2025/05/ReadWithMe.jpeg
END:VEVENT
END:VCALENDAR