BEGIN:VCALENDAR
VERSION:2.0
PRODID:-//Mississippi Children&#039;s Museum - ECPv6.15.20//NONSGML v1.0//EN
CALSCALE:GREGORIAN
METHOD:PUBLISH
X-WR-CALNAME:Mississippi Children&#039;s Museum
X-ORIGINAL-URL:https://mschildrensmuseum.org
X-WR-CALDESC:Events for Mississippi Children&#039;s Museum
REFRESH-INTERVAL;VALUE=DURATION:PT1H
X-Robots-Tag:noindex
X-PUBLISHED-TTL:PT1H
BEGIN:VTIMEZONE
TZID:America/Chicago
BEGIN:DAYLIGHT
TZOFFSETFROM:-0600
TZOFFSETTO:-0500
TZNAME:CDT
DTSTART:20250309T080000
END:DAYLIGHT
BEGIN:STANDARD
TZOFFSETFROM:-0500
TZOFFSETTO:-0600
TZNAME:CST
DTSTART:20251102T070000
END:STANDARD
BEGIN:DAYLIGHT
TZOFFSETFROM:-0600
TZOFFSETTO:-0500
TZNAME:CDT
DTSTART:20260308T080000
END:DAYLIGHT
BEGIN:STANDARD
TZOFFSETFROM:-0500
TZOFFSETTO:-0600
TZNAME:CST
DTSTART:20261101T070000
END:STANDARD
BEGIN:DAYLIGHT
TZOFFSETFROM:-0600
TZOFFSETTO:-0500
TZNAME:CDT
DTSTART:20270314T080000
END:DAYLIGHT
BEGIN:STANDARD
TZOFFSETFROM:-0500
TZOFFSETTO:-0600
TZNAME:CST
DTSTART:20271107T070000
END:STANDARD
END:VTIMEZONE
BEGIN:VEVENT
DTSTART;VALUE=DATE:20260224
DTEND;VALUE=DATE:20260302
DTSTAMP:20260421T224126
CREATED:20220214T173135Z
LAST-MODIFIED:20260210T163420Z
UID:21954-1771891200-1772409599@mschildrensmuseum.org
SUMMARY:Scholastic Book Fair
DESCRIPTION:Scholastic Book Fair\nShop at the Book Fair when you visit the museum February 24 – March 1! All proceeds from the Book Fair will aid us in purchasing books for our literacy outreach program\, Reach out and Read! \nHours\nTuesday-Friday: 9:00am-12:00pm & 1:00pm-5:00pm\nSaturday: 9:00am-5:00pm\nSunday: 1:00pm-5:00pm \nPurchase Tickets to the Museum
URL:https://mschildrensmuseum.org/event/scholastic-book-fair/
LOCATION:Mississippi
CATEGORIES:Jackson
ATTACH;FMTTYPE=image/jpeg:https://mschildrensmuseum.org/wp-content/uploads/2022/02/068A3565-scaled.jpg
END:VEVENT
BEGIN:VEVENT
DTSTART;TZID=America/Chicago:20260225T100000
DTEND;TZID=America/Chicago:20260225T103000
DTSTAMP:20260421T224126
CREATED:20210202T181241Z
LAST-MODIFIED:20260113T180651Z
UID:48446-1772013600-1772015400@mschildrensmuseum.org
SUMMARY:ABC Come Play With Me
DESCRIPTION:ABC Come Play With Me\nABC Come Play with Me is our program designed specifically for infants\, toddlers\, and their caregivers. Give your little one a jump start on the ABCs and 123s with this program every Wednesday at 10:00am. We will start the morning with the alphabet song\, a story\, and either an art project or sensory experience. \nPurchase tickets to the museum\nABC Come Play with Me is sponsored by International Paper.
URL:https://mschildrensmuseum.org/event/abc-come-play-with-me/2026-02-25/
LOCATION:Mississippi
CATEGORIES:Jackson
ATTACH;FMTTYPE=image/jpeg:https://mschildrensmuseum.org/wp-content/uploads/2025/08/wonderbox-scaled.jpeg
END:VEVENT
BEGIN:VEVENT
DTSTART;TZID=America/Chicago:20260225T153000
DTEND;TZID=America/Chicago:20260225T160000
DTSTAMP:20260421T224126
CREATED:20210816T192537Z
LAST-MODIFIED:20260113T180713Z
UID:47577-1772033400-1772035200@mschildrensmuseum.org
SUMMARY:Wonder Wednesday
DESCRIPTION:Join us for Wonder Wednesday every Wednesday at 3:30 pm in the WonderBox gallery as we explore the world around us through our STEAM initiative! This program will utilize hands-on experiments and experiences to cultivate curiosity in guests of all ages! \n\n\nPurchase tickets to the museum\n\n 
URL:https://mschildrensmuseum.org/event/wonder-wednesday/2026-02-25/
LOCATION:Mississippi Children’s Museum\, 2145 Museum Boulevard\, Jackson\, Mississippi\, 39202
CATEGORIES:Jackson
ATTACH;FMTTYPE=image/jpeg:https://mschildrensmuseum.org/wp-content/uploads/2024/07/068A5470-2.jpg
END:VEVENT
END:VCALENDAR