BEGIN:VCALENDAR
VERSION:2.0
PRODID:-//Mississippi Children&#039;s Museum - ECPv6.15.20//NONSGML v1.0//EN
CALSCALE:GREGORIAN
METHOD:PUBLISH
X-WR-CALNAME:Mississippi Children&#039;s Museum
X-ORIGINAL-URL:https://mschildrensmuseum.org
X-WR-CALDESC:Events for Mississippi Children&#039;s Museum
REFRESH-INTERVAL;VALUE=DURATION:PT1H
X-Robots-Tag:noindex
X-PUBLISHED-TTL:PT1H
BEGIN:VTIMEZONE
TZID:America/Chicago
BEGIN:DAYLIGHT
TZOFFSETFROM:-0600
TZOFFSETTO:-0500
TZNAME:CDT
DTSTART:20250309T080000
END:DAYLIGHT
BEGIN:STANDARD
TZOFFSETFROM:-0500
TZOFFSETTO:-0600
TZNAME:CST
DTSTART:20251102T070000
END:STANDARD
BEGIN:DAYLIGHT
TZOFFSETFROM:-0600
TZOFFSETTO:-0500
TZNAME:CDT
DTSTART:20260308T080000
END:DAYLIGHT
BEGIN:STANDARD
TZOFFSETFROM:-0500
TZOFFSETTO:-0600
TZNAME:CST
DTSTART:20261101T070000
END:STANDARD
BEGIN:DAYLIGHT
TZOFFSETFROM:-0600
TZOFFSETTO:-0500
TZNAME:CDT
DTSTART:20270314T080000
END:DAYLIGHT
BEGIN:STANDARD
TZOFFSETFROM:-0500
TZOFFSETTO:-0600
TZNAME:CST
DTSTART:20271107T070000
END:STANDARD
END:VTIMEZONE
BEGIN:VEVENT
DTSTART;TZID=America/Chicago:20260214T100000
DTEND;TZID=America/Chicago:20260214T103000
DTSTAMP:20260423T173333
CREATED:20210202T183542Z
LAST-MODIFIED:20260401T182110Z
UID:49758-1771063200-1771065000@mschildrensmuseum.org
SUMMARY:Know to Grow
DESCRIPTION:Know to Grow\nJoin us in the Enchanted Land of Story every Saturday at 10:00am for Know to Grow! This program incorporates our STEAM\, literacy\, and health initiatives to create a multi-disciplinary program where children will make connections between reading\, science and the aspects of the natural world. Each week we will read a garden-related story and work together to complete a hands-on gardening activity! \nPurchase Tickets to the Museum\nKnow to Grow is sponsored by Feild CoOp Association
URL:https://mschildrensmuseum.org/event/know-to-grow/2026-02-14/
LOCATION:MCM\, 2145 Museum Boulevard\, Jackson\, MS\, 39202\, United States
CATEGORIES:Jackson
ATTACH;FMTTYPE=image/jpeg:https://mschildrensmuseum.org/wp-content/uploads/2021/01/know-to-grow-hero.jpg
END:VEVENT
BEGIN:VEVENT
DTSTART;TZID=America/Chicago:20260214T153000
DTEND;TZID=America/Chicago:20260214T160000
DTSTAMP:20260423T173333
CREATED:20250505T184942Z
LAST-MODIFIED:20260410T143317Z
UID:48062-1771083000-1771084800@mschildrensmuseum.org
SUMMARY:Read With Me
DESCRIPTION:Read With Me\nJoin us twice a week for Read With Me. A story time for children 0-5+ years old. View program page. \nProgram Schedule: \n\nThursday at 3:30pm\nSaturday at 3:30pm\n\nPurchase Tickets to the museum
URL:https://mschildrensmuseum.org/event/read-with-me/2026-02-14/
CATEGORIES:Jackson
ATTACH;FMTTYPE=image/jpeg:https://mschildrensmuseum.org/wp-content/uploads/2025/05/ReadWithMe.jpeg
END:VEVENT
BEGIN:VEVENT
DTSTART;TZID=America/Chicago:20260214T190000
DTEND;TZID=America/Chicago:20260214T220000
DTSTAMP:20260423T173333
CREATED:20210930T213533Z
LAST-MODIFIED:20260216T182805Z
UID:15622-1771095600-1771106400@mschildrensmuseum.org
SUMMARY:Ignite The Night
DESCRIPTION:IGNITE THE NIGHT: FROM SEA TO SHINING SEA\n\n\n\n\nMCM Partners is thrilled to invite you to an unforgettable evening—Ignite the Night: From Sea to Shining Sea\, presented by BankPlus on February 14\, 2026! Guests will enjoy a coast-to-coast culinary journey\, savoring the signature flavors of the East\, Gulf\, and West Coasts and all points in between—each inspired by iconic destinations—set against dazzling entertainment and the timeless glamour of Americana. More than just an evening out\, this is a unique opportunity to experience the museum alive with music\, flavor\, and celebration while supporting a cause that transforms young lives.  \n\n\n\n\n\nABOUT IGNITE THE NIGHT\nEvery February\, adults are given permission to play after hours at the Mississippi Children’s Museum (MCM) during its signature fundraising event\, Ignite the Night. Each gallery comes to life with festive food\, mesmerizing music\, and amusing activities. Hosted by the Mississippi Children’s Museum Partners\, a group of volunteers and donors who support the museum\, this is not your typical party. It is imaginative\, entertaining\, and\, most importantly\, fun! \nSUPPORTING OUR MISSION\nBy supporting Ignite the Night\, you are helping the museum in its mission to create unparalleled experiences to inspire excellence and a lifelong joy of learning for all children. Proceeds from the event provide critical funding for the museum’s operations including for programs like Launch into Learning which provide afterschool care for students affected by learning loss during the pandemic. \nSILENT AUCTION\nJoin MCM Partners
URL:https://mschildrensmuseum.org/event/ignite-the-night/
LOCATION:MCM\, 2145 Museum Boulevard\, Jackson\, MS\, 39202\, United States
CATEGORIES:Jackson
ATTACH;FMTTYPE=image/jpeg:https://mschildrensmuseum.org/wp-content/uploads/2021/09/20220212-IgnitetheNight-214-scaled.jpg
END:VEVENT
END:VCALENDAR