BEGIN:VCALENDAR
VERSION:2.0
PRODID:-//Mississippi Children&#039;s Museum - ECPv6.15.20//NONSGML v1.0//EN
CALSCALE:GREGORIAN
METHOD:PUBLISH
X-ORIGINAL-URL:https://mschildrensmuseum.org
X-WR-CALDESC:Events for Mississippi Children&#039;s Museum
REFRESH-INTERVAL;VALUE=DURATION:PT1H
X-Robots-Tag:noindex
X-PUBLISHED-TTL:PT1H
BEGIN:VTIMEZONE
TZID:America/Chicago
BEGIN:DAYLIGHT
TZOFFSETFROM:-0600
TZOFFSETTO:-0500
TZNAME:CDT
DTSTART:20250309T080000
END:DAYLIGHT
BEGIN:STANDARD
TZOFFSETFROM:-0500
TZOFFSETTO:-0600
TZNAME:CST
DTSTART:20251102T070000
END:STANDARD
BEGIN:DAYLIGHT
TZOFFSETFROM:-0600
TZOFFSETTO:-0500
TZNAME:CDT
DTSTART:20260308T080000
END:DAYLIGHT
BEGIN:STANDARD
TZOFFSETFROM:-0500
TZOFFSETTO:-0600
TZNAME:CST
DTSTART:20261101T070000
END:STANDARD
BEGIN:DAYLIGHT
TZOFFSETFROM:-0600
TZOFFSETTO:-0500
TZNAME:CDT
DTSTART:20270314T080000
END:DAYLIGHT
BEGIN:STANDARD
TZOFFSETFROM:-0500
TZOFFSETTO:-0600
TZNAME:CST
DTSTART:20271107T070000
END:STANDARD
END:VTIMEZONE
BEGIN:VEVENT
DTSTART;TZID=America/Chicago:20260117T100000
DTEND;TZID=America/Chicago:20260117T103000
DTSTAMP:20260423T130850
CREATED:20210202T183542Z
LAST-MODIFIED:20260401T182108Z
UID:49754-1768644000-1768645800@mschildrensmuseum.org
SUMMARY:Know to Grow
DESCRIPTION:Know to Grow\nJoin us in the Enchanted Land of Story every Saturday at 10:00am for Know to Grow! This program incorporates our STEAM\, literacy\, and health initiatives to create a multi-disciplinary program where children will make connections between reading\, science and the aspects of the natural world. Each week we will read a garden-related story and work together to complete a hands-on gardening activity! \nPurchase Tickets to the Museum\nKnow to Grow is sponsored by Feild CoOp Association
URL:https://mschildrensmuseum.org/event/know-to-grow/2026-01-17/
LOCATION:MCM\, 2145 Museum Boulevard\, Jackson\, MS\, 39202\, United States
CATEGORIES:Jackson
ATTACH;FMTTYPE=image/jpeg:https://mschildrensmuseum.org/wp-content/uploads/2021/01/know-to-grow-hero.jpg
END:VEVENT
BEGIN:VEVENT
DTSTART;TZID=America/Chicago:20260117T100000
DTEND;TZID=America/Chicago:20260117T150000
DTSTAMP:20260423T130850
CREATED:20211202T165020Z
LAST-MODIFIED:20260108T213949Z
UID:16906-1768644000-1768662000@mschildrensmuseum.org
SUMMARY:Storytelling Festival
DESCRIPTION:Telling America’s Story \n\n\n\nCome celebrate 250 years of America and MCM’s Literacy Initiative at our annual Storytelling Festival on January 17\, from 10am – 3pm! This year’s festival is extra special as we honor America’s 250th birthday through the power of stories. Whether it’s a tale passed down through generations or a personal journey that reflects your American experience\, your story matters. Join our Visiting Artists to learn creative ways to bring your story to life! \nVisiting Artists & workshop Times\nAnn Fisher-Wirth\, Literary \n“Winter Fun with Words”\nWorkshop Times: 10am & 1pm \nDa Terrence Orlando Roberts\, Storyteller \n“Stories from Around the World”\nWorkshop Times: 11am & 2pm \nThis year’s Storytelling Festival will debut our reimagined Story to Stage exhibit\, now bringing to life the inspiring tales of historical figures celebrated for their heroism\, bravery\, and courage. Discover their stories and share your own at this year’s Storytelling Festival! \n\n\n\n\nPurchase Tickets to the museum
URL:https://mschildrensmuseum.org/event/storytelling-festival-2/
CATEGORIES:Jackson
ATTACH;FMTTYPE=image/jpeg:https://mschildrensmuseum.org/wp-content/uploads/2021/01/20170209_plantingtheseedstoread_37-scaled-e1614283567216.jpg
END:VEVENT
BEGIN:VEVENT
DTSTART;TZID=America/Chicago:20260117T153000
DTEND;TZID=America/Chicago:20260117T160000
DTSTAMP:20260423T130850
CREATED:20250505T184942Z
LAST-MODIFIED:20260410T143314Z
UID:48054-1768663800-1768665600@mschildrensmuseum.org
SUMMARY:Read With Me
DESCRIPTION:Read With Me\nJoin us twice a week for Read With Me. A story time for children 0-5+ years old. View program page. \nProgram Schedule: \n\nThursday at 3:30pm\nSaturday at 3:30pm\n\nPurchase Tickets to the museum
URL:https://mschildrensmuseum.org/event/read-with-me/2026-01-17/
CATEGORIES:Jackson
ATTACH;FMTTYPE=image/jpeg:https://mschildrensmuseum.org/wp-content/uploads/2025/05/ReadWithMe.jpeg
END:VEVENT
END:VCALENDAR