BEGIN:VCALENDAR
VERSION:2.0
PRODID:-//Mississippi Children&#039;s Museum - ECPv6.15.20//NONSGML v1.0//EN
CALSCALE:GREGORIAN
METHOD:PUBLISH
X-ORIGINAL-URL:https://mschildrensmuseum.org
X-WR-CALDESC:Events for Mississippi Children&#039;s Museum
REFRESH-INTERVAL;VALUE=DURATION:PT1H
X-Robots-Tag:noindex
X-PUBLISHED-TTL:PT1H
BEGIN:VTIMEZONE
TZID:America/Chicago
BEGIN:DAYLIGHT
TZOFFSETFROM:-0600
TZOFFSETTO:-0500
TZNAME:CDT
DTSTART:20250309T080000
END:DAYLIGHT
BEGIN:STANDARD
TZOFFSETFROM:-0500
TZOFFSETTO:-0600
TZNAME:CST
DTSTART:20251102T070000
END:STANDARD
BEGIN:DAYLIGHT
TZOFFSETFROM:-0600
TZOFFSETTO:-0500
TZNAME:CDT
DTSTART:20260308T080000
END:DAYLIGHT
BEGIN:STANDARD
TZOFFSETFROM:-0500
TZOFFSETTO:-0600
TZNAME:CST
DTSTART:20261101T070000
END:STANDARD
BEGIN:DAYLIGHT
TZOFFSETFROM:-0600
TZOFFSETTO:-0500
TZNAME:CDT
DTSTART:20270314T080000
END:DAYLIGHT
BEGIN:STANDARD
TZOFFSETFROM:-0500
TZOFFSETTO:-0600
TZNAME:CST
DTSTART:20271107T070000
END:STANDARD
END:VTIMEZONE
BEGIN:VEVENT
DTSTART;TZID=America/Chicago:20261121T100000
DTEND;TZID=America/Chicago:20261121T103000
DTSTAMP:20260420T055434
CREATED:20210202T183542Z
LAST-MODIFIED:20210202T183542Z
UID:55490-1795255200-1795257000@mschildrensmuseum.org
SUMMARY:Know to Grow
DESCRIPTION:Know to Grow\nJoin us in the Enchanted Land of Story every Saturday at 10:00am for Know to Grow! This program incorporates our STEAM\, literacy\, and health initiatives to create a multi-disciplinary program where children will make connections between reading\, science and the aspects of the natural world. Each week we will read a garden-related story and work together to complete a hands-on gardening activity! \nPurchase Tickets to the Museum\nKnow to Grow is sponsored by Feild CoOp Association
URL:https://mschildrensmuseum.org/event/know-to-grow/2026-11-21/
LOCATION:MCM\, 2145 Museum Boulevard\, Jackson\, MS\, 39202\, United States
CATEGORIES:Jackson
ATTACH;FMTTYPE=image/jpeg:https://mschildrensmuseum.org/wp-content/uploads/2021/01/know-to-grow-hero.jpg
END:VEVENT
BEGIN:VEVENT
DTSTART;TZID=America/Chicago:20261121T110000
DTEND;TZID=America/Chicago:20261121T113000
DTSTAMP:20260420T055434
CREATED:20220413T134837Z
LAST-MODIFIED:20260330T153834Z
UID:54165-1795258800-1795260600@mschildrensmuseum.org
SUMMARY:Rocky's Book Club
DESCRIPTION:Rocky’s Book Club\n\n\n\nHave you met the beloved Talk From the Start mascot and literacy advocate\, Rocky the Reader? He’s a jolly pup who loves to read\, play literacy games\, and travel! Join us every morning\, Wednesday – Sunday\, for Rocky’s Book Club as we read some of Rocky’s favorite books for children 0-5+ years old.
URL:https://mschildrensmuseum.org/event/storytime-2022-06-30/2026-11-21/
LOCATION:MCM-Meridian\, 403 22nd Avenue\, Meridian\, MS\, 39301\, United States
CATEGORIES:Meridian
ATTACH;FMTTYPE=image/jpeg:https://mschildrensmuseum.org/wp-content/uploads/2022/04/IMG_8993-scaled.jpg
END:VEVENT
BEGIN:VEVENT
DTSTART;TZID=America/Chicago:20261121T153000
DTEND;TZID=America/Chicago:20261121T160000
DTSTAMP:20260420T055434
CREATED:20250505T184942Z
LAST-MODIFIED:20250505T184942Z
UID:51664-1795275000-1795276800@mschildrensmuseum.org
SUMMARY:Read With Me
DESCRIPTION:Read With Me\nJoin us twice a week for Read With Me. A story time for children 0-5+ years old. View program page. \nProgram Schedule: \n\nThursday at 3:30pm\nSaturday at 3:30pm\n\nPurchase Tickets to the museum
URL:https://mschildrensmuseum.org/event/read-with-me/2026-11-21/
CATEGORIES:Jackson
ATTACH;FMTTYPE=image/jpeg:https://mschildrensmuseum.org/wp-content/uploads/2025/05/ReadWithMe.jpeg
END:VEVENT
BEGIN:VEVENT
DTSTART;TZID=America/Chicago:20261121T180000
DTEND;TZID=America/Chicago:20261121T200000
DTSTAMP:20260420T055434
CREATED:20220803T201244Z
LAST-MODIFIED:20260312T185123Z
UID:27796-1795284000-1795291200@mschildrensmuseum.org
SUMMARY:A Very Merry Night
DESCRIPTION:A Very Merry Night\nJoin us on Saturday\, November 22 from 6:00pm – 8:00pm for MCM Partners’ A Very Merry Night! \nA Very Merry Night is MCM Partners’ family fundraiser that serves as the premiere holiday event of the year by taking place on the opening night of MCM’s popular holiday exhibit\, Journey to the North Pole in Jackson! This magical evening gives families early access to photos with Santa\, a chance to explore the holiday exhibit\, and offers hands-on\, holiday-themed programming. Learn more about partners. \nMore information to come! \nNOTE: Guests must purchase A Very Merry Night event ticket for entry. MCM General Admission tickets are not valid for special events.  \n 
URL:https://mschildrensmuseum.org/event/a-very-merry-night/
CATEGORIES:Jackson
ATTACH;FMTTYPE=image/jpeg:https://mschildrensmuseum.org/wp-content/uploads/2022/08/6T4A9595-scaled-e1659558776235.jpg
END:VEVENT
END:VCALENDAR