BEGIN:VCALENDAR
VERSION:2.0
PRODID:-//Mississippi Children&#039;s Museum - ECPv6.15.20//NONSGML v1.0//EN
CALSCALE:GREGORIAN
METHOD:PUBLISH
X-WR-CALNAME:Mississippi Children&#039;s Museum
X-ORIGINAL-URL:https://mschildrensmuseum.org
X-WR-CALDESC:Events for Mississippi Children&#039;s Museum
REFRESH-INTERVAL;VALUE=DURATION:PT1H
X-Robots-Tag:noindex
X-PUBLISHED-TTL:PT1H
BEGIN:VTIMEZONE
TZID:America/Chicago
BEGIN:DAYLIGHT
TZOFFSETFROM:-0600
TZOFFSETTO:-0500
TZNAME:CDT
DTSTART:20240310T080000
END:DAYLIGHT
BEGIN:STANDARD
TZOFFSETFROM:-0500
TZOFFSETTO:-0600
TZNAME:CST
DTSTART:20241103T070000
END:STANDARD
BEGIN:DAYLIGHT
TZOFFSETFROM:-0600
TZOFFSETTO:-0500
TZNAME:CDT
DTSTART:20250309T080000
END:DAYLIGHT
BEGIN:STANDARD
TZOFFSETFROM:-0500
TZOFFSETTO:-0600
TZNAME:CST
DTSTART:20251102T070000
END:STANDARD
BEGIN:DAYLIGHT
TZOFFSETFROM:-0600
TZOFFSETTO:-0500
TZNAME:CDT
DTSTART:20260308T080000
END:DAYLIGHT
BEGIN:STANDARD
TZOFFSETFROM:-0500
TZOFFSETTO:-0600
TZNAME:CST
DTSTART:20261101T070000
END:STANDARD
END:VTIMEZONE
BEGIN:VEVENT
DTSTART;TZID=America/Chicago:20251214T140000
DTEND;TZID=America/Chicago:20251214T160000
DTSTAMP:20260423T115543
CREATED:20210916T152935Z
LAST-MODIFIED:20250708T214853Z
UID:49112-1765720800-1765728000@mschildrensmuseum.org
SUMMARY:Sundays with Santa
DESCRIPTION:Sundays with Santa\nExperience the magic of the season at the Mississippi Children’s Museum – Meridian during Sundays with Santa! Visit from 2 to 4 p.m. to share your holiday wishes and capture a special photo with Santa!
URL:https://mschildrensmuseum.org/event/sundays-with-santa/2025-12-14/
LOCATION:MCM-Meridian\, 403 22nd Avenue\, Meridian\, MS\, 39301\, United States
CATEGORIES:Meridian
ATTACH;FMTTYPE=image/jpeg:https://mschildrensmuseum.org/wp-content/uploads/2021/09/6T4A1357-scaled.jpg
END:VEVENT
BEGIN:VEVENT
DTSTART;TZID=America/Chicago:20251207T140000
DTEND;TZID=America/Chicago:20251207T160000
DTSTAMP:20260423T115543
CREATED:20210916T152935Z
LAST-MODIFIED:20250708T214853Z
UID:15290-1765116000-1765123200@mschildrensmuseum.org
SUMMARY:Sundays with Santa
DESCRIPTION:Sundays with Santa\nExperience the magic of the season at the Mississippi Children’s Museum – Meridian during Sundays with Santa! Visit from 2 to 4 p.m. to share your holiday wishes and capture a special photo with Santa!
URL:https://mschildrensmuseum.org/event/sundays-with-santa/2025-12-07/
LOCATION:MCM-Meridian\, 403 22nd Avenue\, Meridian\, MS\, 39301\, United States
CATEGORIES:Meridian
ATTACH;FMTTYPE=image/jpeg:https://mschildrensmuseum.org/wp-content/uploads/2021/09/6T4A1357-scaled.jpg
END:VEVENT
END:VCALENDAR