BEGIN:VCALENDAR
VERSION:2.0
PRODID:-//Mississippi Children&#039;s Museum - ECPv6.15.20//NONSGML v1.0//EN
CALSCALE:GREGORIAN
METHOD:PUBLISH
X-ORIGINAL-URL:https://mschildrensmuseum.org
X-WR-CALDESC:Events for Mississippi Children&#039;s Museum
REFRESH-INTERVAL;VALUE=DURATION:PT1H
X-Robots-Tag:noindex
X-PUBLISHED-TTL:PT1H
BEGIN:VTIMEZONE
TZID:America/Chicago
BEGIN:DAYLIGHT
TZOFFSETFROM:-0600
TZOFFSETTO:-0500
TZNAME:CDT
DTSTART:20210314T080000
END:DAYLIGHT
BEGIN:STANDARD
TZOFFSETFROM:-0500
TZOFFSETTO:-0600
TZNAME:CST
DTSTART:20211107T070000
END:STANDARD
BEGIN:DAYLIGHT
TZOFFSETFROM:-0600
TZOFFSETTO:-0500
TZNAME:CDT
DTSTART:20220313T080000
END:DAYLIGHT
BEGIN:STANDARD
TZOFFSETFROM:-0500
TZOFFSETTO:-0600
TZNAME:CST
DTSTART:20221106T070000
END:STANDARD
BEGIN:DAYLIGHT
TZOFFSETFROM:-0600
TZOFFSETTO:-0500
TZNAME:CDT
DTSTART:20230312T080000
END:DAYLIGHT
BEGIN:STANDARD
TZOFFSETFROM:-0500
TZOFFSETTO:-0600
TZNAME:CST
DTSTART:20231105T070000
END:STANDARD
END:VTIMEZONE
BEGIN:VEVENT
DTSTART;TZID=America/Chicago:20220423T100000
DTEND;TZID=America/Chicago:20220423T103000
DTSTAMP:20260422T183030
CREATED:20220420T134556Z
LAST-MODIFIED:20220420T134556Z
UID:24832-1650708000-1650709800@mschildrensmuseum.org
SUMMARY:Storytime with Wesley House
DESCRIPTION:Storytime\nJoin us for storytime in the library exhibit on Saturday\, April 23 with the Wesley House at 10am and 2pm. \nRepresentatives from the Wesley House will also have an informational booth set up in the museum lobby\, so be sure to stop by!
URL:https://mschildrensmuseum.org/event/storytime-with-wesley-house/2022-04-23/
LOCATION:MCM-Meridian\, 403 22nd Avenue\, Meridian\, MS\, 39301\, United States
CATEGORIES:Meridian
ATTACH;FMTTYPE=image/jpeg:https://mschildrensmuseum.org/wp-content/uploads/2021/12/i-znd9WK2-X2.jpg
END:VEVENT
END:VCALENDAR