BEGIN:VCALENDAR
VERSION:2.0
PRODID:-//Mississippi Children&#039;s Museum - ECPv6.15.20//NONSGML v1.0//EN
CALSCALE:GREGORIAN
METHOD:PUBLISH
X-ORIGINAL-URL:https://mschildrensmuseum.org
X-WR-CALDESC:Events for Mississippi Children&#039;s Museum
REFRESH-INTERVAL;VALUE=DURATION:PT1H
X-Robots-Tag:noindex
X-PUBLISHED-TTL:PT1H
BEGIN:VTIMEZONE
TZID:America/Chicago
BEGIN:DAYLIGHT
TZOFFSETFROM:-0600
TZOFFSETTO:-0500
TZNAME:CDT
DTSTART:20230312T080000
END:DAYLIGHT
BEGIN:STANDARD
TZOFFSETFROM:-0500
TZOFFSETTO:-0600
TZNAME:CST
DTSTART:20231105T070000
END:STANDARD
BEGIN:DAYLIGHT
TZOFFSETFROM:-0600
TZOFFSETTO:-0500
TZNAME:CDT
DTSTART:20240310T080000
END:DAYLIGHT
BEGIN:STANDARD
TZOFFSETFROM:-0500
TZOFFSETTO:-0600
TZNAME:CST
DTSTART:20241103T070000
END:STANDARD
BEGIN:DAYLIGHT
TZOFFSETFROM:-0600
TZOFFSETTO:-0500
TZNAME:CDT
DTSTART:20250309T080000
END:DAYLIGHT
BEGIN:STANDARD
TZOFFSETFROM:-0500
TZOFFSETTO:-0600
TZNAME:CST
DTSTART:20251102T070000
END:STANDARD
END:VTIMEZONE
BEGIN:VEVENT
DTSTART;TZID=America/Chicago:20240622T100000
DTEND;TZID=America/Chicago:20240622T150000
DTSTAMP:20260422T144730
CREATED:20240312T142340Z
LAST-MODIFIED:20240823T151338Z
UID:39985-1719050400-1719068400@mschildrensmuseum.org
SUMMARY:PAW Patrol Special Event
DESCRIPTION:PAW Patrol Special Event\nJoin us for our PAW Patrol: Adventure Play Special Events\, where guests will enjoy themed-programming and activities centered around the exhibit and its educational elements! \nCommunity Helpers Day | August 24 | 10am – 3pm\n\nBe Undefeated Therapeutic Solutions\nMississippi Metahumans\nRed Cross\nEntergy Nuclear – Women in Nuclear\nCommunity Relations & Fire Safety Education\nSharon Russel-Robinson; Author\n\nDETAILS\n\nFree for Members | $13/Person for Non-Members\nTickets Available Online or At the Door\nAccess to Summer Exhibit is included in General Admission Ticket\n\nLearn More about this Exhibit\nPurchase Tickets to the Museum\nExhibit Locally Sponsored by: \n   
URL:https://mschildrensmuseum.org/event/paw-patrol-special-event/2024-06-22/
LOCATION:Mississippi Children’s Museum\, 2145 Museum Boulevard\, Jackson\, Mississippi\, 39202
CATEGORIES:Jackson
ATTACH;FMTTYPE=image/jpeg:https://mschildrensmuseum.org/wp-content/uploads/2024/05/068A4626-scaled.jpg
END:VEVENT
END:VCALENDAR