BEGIN:VCALENDAR
VERSION:2.0
PRODID:-//Mississippi Children&#039;s Museum - ECPv6.15.20//NONSGML v1.0//EN
CALSCALE:GREGORIAN
METHOD:PUBLISH
X-WR-CALNAME:Mississippi Children&#039;s Museum
X-ORIGINAL-URL:https://mschildrensmuseum.org
X-WR-CALDESC:Events for Mississippi Children&#039;s Museum
REFRESH-INTERVAL;VALUE=DURATION:PT1H
X-Robots-Tag:noindex
X-PUBLISHED-TTL:PT1H
BEGIN:VTIMEZONE
TZID:America/Chicago
BEGIN:DAYLIGHT
TZOFFSETFROM:-0600
TZOFFSETTO:-0500
TZNAME:CDT
DTSTART:20250309T080000
END:DAYLIGHT
BEGIN:STANDARD
TZOFFSETFROM:-0500
TZOFFSETTO:-0600
TZNAME:CST
DTSTART:20251102T070000
END:STANDARD
BEGIN:DAYLIGHT
TZOFFSETFROM:-0600
TZOFFSETTO:-0500
TZNAME:CDT
DTSTART:20260308T080000
END:DAYLIGHT
BEGIN:STANDARD
TZOFFSETFROM:-0500
TZOFFSETTO:-0600
TZNAME:CST
DTSTART:20261101T070000
END:STANDARD
BEGIN:DAYLIGHT
TZOFFSETFROM:-0600
TZOFFSETTO:-0500
TZNAME:CDT
DTSTART:20270314T080000
END:DAYLIGHT
BEGIN:STANDARD
TZOFFSETFROM:-0500
TZOFFSETTO:-0600
TZNAME:CST
DTSTART:20271107T070000
END:STANDARD
END:VTIMEZONE
BEGIN:VEVENT
DTSTART;TZID=America/Chicago:20260601T090000
DTEND;TZID=America/Chicago:20260601T170000
DTSTAMP:20260423T043832
CREATED:20211004T210627Z
LAST-MODIFIED:20260311T185223Z
UID:15741-1780304400-1780333200@mschildrensmuseum.org
SUMMARY:Magic Monday
DESCRIPTION:Magic Monday\nDid you know MCM is open for special\, holiday Mondays from 9 am – 5 pm for extra hours of inspiration and fun? Magic Monday is the perfect solution to a Monday off from school.  \nEach of these special days includes regular museum programming\, as well as a special Food Lab program at 11:00am where guests learn about making delicious and nutritious food and snacks. \nPurchase Tickets to the Museum
URL:https://mschildrensmuseum.org/event/magic-monday-9/2026-06-01/
CATEGORIES:Jackson
ATTACH;FMTTYPE=image/jpeg:https://mschildrensmuseum.org/wp-content/uploads/2021/02/magic-mondays.jpg
END:VEVENT
BEGIN:VEVENT
DTSTART;TZID=America/Chicago:20260608T090000
DTEND;TZID=America/Chicago:20260608T170000
DTSTAMP:20260423T043832
CREATED:20211004T210627Z
LAST-MODIFIED:20260311T185223Z
UID:54583-1780909200-1780938000@mschildrensmuseum.org
SUMMARY:Magic Monday
DESCRIPTION:Magic Monday\nDid you know MCM is open for special\, holiday Mondays from 9 am – 5 pm for extra hours of inspiration and fun? Magic Monday is the perfect solution to a Monday off from school.  \nEach of these special days includes regular museum programming\, as well as a special Food Lab program at 11:00am where guests learn about making delicious and nutritious food and snacks. \nPurchase Tickets to the Museum
URL:https://mschildrensmuseum.org/event/magic-monday-9/2026-06-08/
CATEGORIES:Jackson
ATTACH;FMTTYPE=image/jpeg:https://mschildrensmuseum.org/wp-content/uploads/2021/02/magic-mondays.jpg
END:VEVENT
BEGIN:VEVENT
DTSTART;TZID=America/Chicago:20260615T090000
DTEND;TZID=America/Chicago:20260615T170000
DTSTAMP:20260423T043832
CREATED:20211004T210627Z
LAST-MODIFIED:20260311T185224Z
UID:54584-1781514000-1781542800@mschildrensmuseum.org
SUMMARY:Magic Monday
DESCRIPTION:Magic Monday\nDid you know MCM is open for special\, holiday Mondays from 9 am – 5 pm for extra hours of inspiration and fun? Magic Monday is the perfect solution to a Monday off from school.  \nEach of these special days includes regular museum programming\, as well as a special Food Lab program at 11:00am where guests learn about making delicious and nutritious food and snacks. \nPurchase Tickets to the Museum
URL:https://mschildrensmuseum.org/event/magic-monday-9/2026-06-15/
CATEGORIES:Jackson
ATTACH;FMTTYPE=image/jpeg:https://mschildrensmuseum.org/wp-content/uploads/2021/02/magic-mondays.jpg
END:VEVENT
BEGIN:VEVENT
DTSTART;TZID=America/Chicago:20260622T090000
DTEND;TZID=America/Chicago:20260622T170000
DTSTAMP:20260423T043832
CREATED:20211004T210627Z
LAST-MODIFIED:20260311T185224Z
UID:54585-1782118800-1782147600@mschildrensmuseum.org
SUMMARY:Magic Monday
DESCRIPTION:Magic Monday\nDid you know MCM is open for special\, holiday Mondays from 9 am – 5 pm for extra hours of inspiration and fun? Magic Monday is the perfect solution to a Monday off from school.  \nEach of these special days includes regular museum programming\, as well as a special Food Lab program at 11:00am where guests learn about making delicious and nutritious food and snacks. \nPurchase Tickets to the Museum
URL:https://mschildrensmuseum.org/event/magic-monday-9/2026-06-22/
CATEGORIES:Jackson
ATTACH;FMTTYPE=image/jpeg:https://mschildrensmuseum.org/wp-content/uploads/2021/02/magic-mondays.jpg
END:VEVENT
BEGIN:VEVENT
DTSTART;TZID=America/Chicago:20260629T090000
DTEND;TZID=America/Chicago:20260629T170000
DTSTAMP:20260423T043832
CREATED:20211004T210627Z
LAST-MODIFIED:20260311T185224Z
UID:54586-1782723600-1782752400@mschildrensmuseum.org
SUMMARY:Magic Monday
DESCRIPTION:Magic Monday\nDid you know MCM is open for special\, holiday Mondays from 9 am – 5 pm for extra hours of inspiration and fun? Magic Monday is the perfect solution to a Monday off from school.  \nEach of these special days includes regular museum programming\, as well as a special Food Lab program at 11:00am where guests learn about making delicious and nutritious food and snacks. \nPurchase Tickets to the Museum
URL:https://mschildrensmuseum.org/event/magic-monday-9/2026-06-29/
CATEGORIES:Jackson
ATTACH;FMTTYPE=image/jpeg:https://mschildrensmuseum.org/wp-content/uploads/2021/02/magic-mondays.jpg
END:VEVENT
BEGIN:VEVENT
DTSTART;TZID=America/Chicago:20260706T090000
DTEND;TZID=America/Chicago:20260706T170000
DTSTAMP:20260423T043832
CREATED:20211004T210627Z
LAST-MODIFIED:20260311T185225Z
UID:54587-1783328400-1783357200@mschildrensmuseum.org
SUMMARY:Magic Monday
DESCRIPTION:Magic Monday\nDid you know MCM is open for special\, holiday Mondays from 9 am – 5 pm for extra hours of inspiration and fun? Magic Monday is the perfect solution to a Monday off from school.  \nEach of these special days includes regular museum programming\, as well as a special Food Lab program at 11:00am where guests learn about making delicious and nutritious food and snacks. \nPurchase Tickets to the Museum
URL:https://mschildrensmuseum.org/event/magic-monday-9/2026-07-06/
CATEGORIES:Jackson
ATTACH;FMTTYPE=image/jpeg:https://mschildrensmuseum.org/wp-content/uploads/2021/02/magic-mondays.jpg
END:VEVENT
BEGIN:VEVENT
DTSTART;TZID=America/Chicago:20260713T090000
DTEND;TZID=America/Chicago:20260713T170000
DTSTAMP:20260423T043832
CREATED:20211004T210627Z
LAST-MODIFIED:20260311T185225Z
UID:54588-1783933200-1783962000@mschildrensmuseum.org
SUMMARY:Magic Monday
DESCRIPTION:Magic Monday\nDid you know MCM is open for special\, holiday Mondays from 9 am – 5 pm for extra hours of inspiration and fun? Magic Monday is the perfect solution to a Monday off from school.  \nEach of these special days includes regular museum programming\, as well as a special Food Lab program at 11:00am where guests learn about making delicious and nutritious food and snacks. \nPurchase Tickets to the Museum
URL:https://mschildrensmuseum.org/event/magic-monday-9/2026-07-13/
CATEGORIES:Jackson
ATTACH;FMTTYPE=image/jpeg:https://mschildrensmuseum.org/wp-content/uploads/2021/02/magic-mondays.jpg
END:VEVENT
BEGIN:VEVENT
DTSTART;TZID=America/Chicago:20260720T090000
DTEND;TZID=America/Chicago:20260720T170000
DTSTAMP:20260423T043832
CREATED:20211004T210627Z
LAST-MODIFIED:20260311T185225Z
UID:54589-1784538000-1784566800@mschildrensmuseum.org
SUMMARY:Magic Monday
DESCRIPTION:Magic Monday\nDid you know MCM is open for special\, holiday Mondays from 9 am – 5 pm for extra hours of inspiration and fun? Magic Monday is the perfect solution to a Monday off from school.  \nEach of these special days includes regular museum programming\, as well as a special Food Lab program at 11:00am where guests learn about making delicious and nutritious food and snacks. \nPurchase Tickets to the Museum
URL:https://mschildrensmuseum.org/event/magic-monday-9/2026-07-20/
CATEGORIES:Jackson
ATTACH;FMTTYPE=image/jpeg:https://mschildrensmuseum.org/wp-content/uploads/2021/02/magic-mondays.jpg
END:VEVENT
BEGIN:VEVENT
DTSTART;TZID=America/Chicago:20260727T090000
DTEND;TZID=America/Chicago:20260727T170000
DTSTAMP:20260423T043832
CREATED:20211004T210627Z
LAST-MODIFIED:20260311T185225Z
UID:54590-1785142800-1785171600@mschildrensmuseum.org
SUMMARY:Magic Monday
DESCRIPTION:Magic Monday\nDid you know MCM is open for special\, holiday Mondays from 9 am – 5 pm for extra hours of inspiration and fun? Magic Monday is the perfect solution to a Monday off from school.  \nEach of these special days includes regular museum programming\, as well as a special Food Lab program at 11:00am where guests learn about making delicious and nutritious food and snacks. \nPurchase Tickets to the Museum
URL:https://mschildrensmuseum.org/event/magic-monday-9/2026-07-27/
CATEGORIES:Jackson
ATTACH;FMTTYPE=image/jpeg:https://mschildrensmuseum.org/wp-content/uploads/2021/02/magic-mondays.jpg
END:VEVENT
END:VCALENDAR